BEGIN:VCALENDAR
VERSION:2.0
PRODID:-//Avid Cyclist - ECPv6.15.19//NONSGML v1.0//EN
CALSCALE:GREGORIAN
METHOD:PUBLISH
X-ORIGINAL-URL:https://avidcyclist.com
X-WR-CALDESC:Events for Avid Cyclist
REFRESH-INTERVAL;VALUE=DURATION:PT1H
X-Robots-Tag:noindex
X-PUBLISHED-TTL:PT1H
BEGIN:VTIMEZONE
TZID:America/Denver
BEGIN:DAYLIGHT
TZOFFSETFROM:-0700
TZOFFSETTO:-0600
TZNAME:MDT
DTSTART:20250309T090000
END:DAYLIGHT
BEGIN:STANDARD
TZOFFSETFROM:-0600
TZOFFSETTO:-0700
TZNAME:MST
DTSTART:20251102T080000
END:STANDARD
BEGIN:DAYLIGHT
TZOFFSETFROM:-0700
TZOFFSETTO:-0600
TZNAME:MDT
DTSTART:20260308T090000
END:DAYLIGHT
BEGIN:STANDARD
TZOFFSETFROM:-0600
TZOFFSETTO:-0700
TZNAME:MST
DTSTART:20261101T080000
END:STANDARD
BEGIN:DAYLIGHT
TZOFFSETFROM:-0700
TZOFFSETTO:-0600
TZNAME:MDT
DTSTART:20270314T090000
END:DAYLIGHT
BEGIN:STANDARD
TZOFFSETFROM:-0600
TZOFFSETTO:-0700
TZNAME:MST
DTSTART:20271107T080000
END:STANDARD
END:VTIMEZONE
BEGIN:VEVENT
DTSTART;VALUE=DATE:20260620
DTEND;VALUE=DATE:20260621
DTSTAMP:20260424T114102
CREATED:20250319T042613Z
LAST-MODIFIED:20251218T215130Z
UID:10000054-1781913600-1781999999@avidcyclist.com
SUMMARY:Bighorn Gravel
DESCRIPTION:“The Best Gravel Race You’ve Never Heard Of”\nAs the “best gravel race he’s ever done\,” Bighorn gets a proper breakdown from everyone’s favorite vegan. He highlights course features\, strategy\, community\, and why he decided to do the Little Bighorn right on the heels of the 85-mile Ramshorn escape course\, for a total of 130 miles and 15k of vert! What a beast! \nThis coming June\, gravel riders\, families\, friends\, and spectators will descend on Eagle County for a gravel experience like no other. Featuring terrain and views that only Colorado High Country can offer\, the course will challenge your fitness and skills as you climb through the thin air of the Rockies. \nThe 85-mile Ram’s Horn Escape is a full serving of alpine gravel\, featuring over 10\,500 ft of climbing. Sprinkle in some single track\, a hike-a-bike or two\, rowdy descents that will have you begging for mercy\, and some of the most fantastic scenery you can dream up\, and you’ve got the perfect recipe for a great day on the bike. \n85-Mile riders will compete for more than $10\,000 in cash split evenly between Women and Men! \nThe 50-mile Little Bighorn is no gimme\, packing 6\,500 ft. of climbing into a relentless course. Same views\, same wild singletrack\, and the same spirit of the West found in the long course\, in a more manageable serving. \nCurious about testing your mettle\, but not sure if a big gravel event is up your alley? The 20-mile Gravel Curious option is the best way to get your feet wet\, featuring just enough gravel to entice you back for more. E-bikes are welcome\, and the course is non-competitive. \nThe expo will include a family friendly build up to the next day’s events\, complete with live music\, food trucks\, beer\, kids balance bike races and much more. \nHuge thanks to The Town of Gypsum and Pinarello for their generous support and helping us create this unique event. Thanks to their support\, we’re able to offer onsite camping\, complete with showers and bathrooms.
URL:https://avidcyclist.com/event/bighorn-gravel/
LOCATION:Gypsum\, Colorado\, Gypsum\, CO\, United States
CATEGORIES:Gravel,Race
ATTACH;FMTTYPE=image/png:https://avidcyclist.com/wp-content/uploads/bighorn-gravel-1.png
ORGANIZER;CN="Bighorn Events":MAILTO:info@bighorngravel.com
END:VEVENT
BEGIN:VEVENT
DTSTART;VALUE=DATE:20260912
DTEND;VALUE=DATE:20260913
DTSTAMP:20260424T114102
CREATED:20250319T042613Z
LAST-MODIFIED:20251218T215031Z
UID:10000055-1789171200-1789257599@avidcyclist.com
SUMMARY:Bighorn Road
DESCRIPTION:“More wildlife than cars.”\nStone Sheep – 80 miles\, 5K vert \nDall Sheep (e-bike friendly) – 31 miles\, 1.6K vert \nBighorn Road\, a tarmac ride along the Colorado River\, with a sprinkling of hardpacked dirt to challenge the modern road bike.
URL:https://avidcyclist.com/event/bighorn-road/
LOCATION:Gypsum\, Colorado\, Gypsum\, CO\, United States
CATEGORIES:Race,Ride,Road
ATTACH;FMTTYPE=image/jpeg:https://avidcyclist.com/wp-content/uploads/Bighorn-road.jpg
ORGANIZER;CN="Bighorn Events":MAILTO:info@bighorngravel.com
END:VEVENT
END:VCALENDAR