BEGIN:VCALENDAR
VERSION:2.0
PRODID:-//Avid Cyclist - ECPv6.15.19//NONSGML v1.0//EN
CALSCALE:GREGORIAN
METHOD:PUBLISH
X-ORIGINAL-URL:https://avidcyclist.com
X-WR-CALDESC:Events for Avid Cyclist
REFRESH-INTERVAL;VALUE=DURATION:PT1H
X-Robots-Tag:noindex
X-PUBLISHED-TTL:PT1H
BEGIN:VTIMEZONE
TZID:America/Denver
BEGIN:DAYLIGHT
TZOFFSETFROM:-0700
TZOFFSETTO:-0600
TZNAME:MDT
DTSTART:20240310T090000
END:DAYLIGHT
BEGIN:STANDARD
TZOFFSETFROM:-0600
TZOFFSETTO:-0700
TZNAME:MST
DTSTART:20241103T080000
END:STANDARD
BEGIN:DAYLIGHT
TZOFFSETFROM:-0700
TZOFFSETTO:-0600
TZNAME:MDT
DTSTART:20250309T090000
END:DAYLIGHT
BEGIN:STANDARD
TZOFFSETFROM:-0600
TZOFFSETTO:-0700
TZNAME:MST
DTSTART:20251102T080000
END:STANDARD
BEGIN:DAYLIGHT
TZOFFSETFROM:-0700
TZOFFSETTO:-0600
TZNAME:MDT
DTSTART:20260308T090000
END:DAYLIGHT
BEGIN:STANDARD
TZOFFSETFROM:-0600
TZOFFSETTO:-0700
TZNAME:MST
DTSTART:20261101T080000
END:STANDARD
END:VTIMEZONE
BEGIN:VEVENT
DTSTART;TZID=America/Denver:20251118T080000
DTEND;TZID=America/Denver:20251118T170000
DTSTAMP:20260425T082632
CREATED:20251118T165342Z
LAST-MODIFIED:20251118T165421Z
UID:10000445-1763452800-1763485200@avidcyclist.com
SUMMARY:Gravel Locos Hico
DESCRIPTION:Gravel Locos Hico 2026 returns this year with four-course options through the heart of Texas heartland in Hico\, TX (70 miles Northwest of Waco).  Routes range from 34 to 157 miles and up to 7\,000 feet of elevation gain. The first course is non-timed and non-competitive\, whereas the longer three options are competitive. All courses start and finish at Mustang Hill RV Park & Wild Horse Arena Venue\, are primarily gravel\, include grades that reach 20%\, and uniquely include several water crossings.  Gravel Locos Hico 2026 is also noteworthy for the number of celebrity adventure racers\, including Peter Stetina\, Ted King\, Laurens ten Dam\, and many others.
URL:https://avidcyclist.com/event/gravel-locos-hico/
LOCATION:Hico\, Texas\, Hico\, Texas
CATEGORIES:Gravel,Race,Ride
ATTACH;FMTTYPE=image/png:https://avidcyclist.com/wp-content/uploads/gravel-locos-hico.png
END:VEVENT
END:VCALENDAR