BEGIN:VCALENDAR
VERSION:2.0
PRODID:-//Avid Cyclist - ECPv6.15.19//NONSGML v1.0//EN
CALSCALE:GREGORIAN
METHOD:PUBLISH
X-WR-CALNAME:Avid Cyclist
X-ORIGINAL-URL:https://avidcyclist.com
X-WR-CALDESC:Events for Avid Cyclist
REFRESH-INTERVAL;VALUE=DURATION:PT1H
X-Robots-Tag:noindex
X-PUBLISHED-TTL:PT1H
BEGIN:VTIMEZONE
TZID:America/Denver
BEGIN:DAYLIGHT
TZOFFSETFROM:-0700
TZOFFSETTO:-0600
TZNAME:MDT
DTSTART:20240310T090000
END:DAYLIGHT
BEGIN:STANDARD
TZOFFSETFROM:-0600
TZOFFSETTO:-0700
TZNAME:MST
DTSTART:20241103T080000
END:STANDARD
BEGIN:DAYLIGHT
TZOFFSETFROM:-0700
TZOFFSETTO:-0600
TZNAME:MDT
DTSTART:20250309T090000
END:DAYLIGHT
BEGIN:STANDARD
TZOFFSETFROM:-0600
TZOFFSETTO:-0700
TZNAME:MST
DTSTART:20251102T080000
END:STANDARD
BEGIN:DAYLIGHT
TZOFFSETFROM:-0700
TZOFFSETTO:-0600
TZNAME:MDT
DTSTART:20260308T090000
END:DAYLIGHT
BEGIN:STANDARD
TZOFFSETFROM:-0600
TZOFFSETTO:-0700
TZNAME:MST
DTSTART:20261101T080000
END:STANDARD
END:VTIMEZONE
BEGIN:VEVENT
DTSTART;VALUE=DATE:20251108
DTEND;VALUE=DATE:20251110
DTSTAMP:20260425T054952
CREATED:20250930T151637Z
LAST-MODIFIED:20250930T152519Z
UID:10000399-1762560000-1762732799@avidcyclist.com
SUMMARY:24 Hours in Frog Hollow
DESCRIPTION:THE LONGEST 1 DAY RACE\n25 hours of pain\, suffering\, laughing\, eating\, not sleeping\, laughing more\, and accomplishing something big.\nFrog Hollow lays in the shadow of Gooseberry Mesa and Zion National Park just outside the town of Hurricane\, Utah.  Home Base is known as Frog Town\, and it is the hub of all the excitement. The 25 hours in Frog Hollow is an end-of-season celebration on bikes. Bring your friends and enjoy camping\, racing\, and hanging by the fire. \nThis year\, we won’t be on the time change due to Halloween falling on the time change weekend. So\, it will be a week later\, but we still plan to go 25 hours!
URL:https://avidcyclist.com/event/24-hours-in-frog-hollow/
LOCATION:Hurricane\, Utah\, Hurricane\, Utah
CATEGORIES:Mountain Bike,Race
ATTACH;FMTTYPE=image/png:https://avidcyclist.com/wp-content/uploads/frog-hollow.png
END:VEVENT
END:VCALENDAR