BEGIN:VCALENDAR
VERSION:2.0
PRODID:-//Avid Cyclist - ECPv6.15.19//NONSGML v1.0//EN
CALSCALE:GREGORIAN
METHOD:PUBLISH
X-WR-CALNAME:Avid Cyclist
X-ORIGINAL-URL:https://avidcyclist.com
X-WR-CALDESC:Events for Avid Cyclist
REFRESH-INTERVAL;VALUE=DURATION:PT1H
X-Robots-Tag:noindex
X-PUBLISHED-TTL:PT1H
BEGIN:VTIMEZONE
TZID:America/Denver
BEGIN:DAYLIGHT
TZOFFSETFROM:-0700
TZOFFSETTO:-0600
TZNAME:MDT
DTSTART:20250309T090000
END:DAYLIGHT
BEGIN:STANDARD
TZOFFSETFROM:-0600
TZOFFSETTO:-0700
TZNAME:MST
DTSTART:20251102T080000
END:STANDARD
BEGIN:DAYLIGHT
TZOFFSETFROM:-0700
TZOFFSETTO:-0600
TZNAME:MDT
DTSTART:20260308T090000
END:DAYLIGHT
BEGIN:STANDARD
TZOFFSETFROM:-0600
TZOFFSETTO:-0700
TZNAME:MST
DTSTART:20261101T080000
END:STANDARD
BEGIN:DAYLIGHT
TZOFFSETFROM:-0700
TZOFFSETTO:-0600
TZNAME:MDT
DTSTART:20270314T090000
END:DAYLIGHT
BEGIN:STANDARD
TZOFFSETFROM:-0600
TZOFFSETTO:-0700
TZNAME:MST
DTSTART:20271107T080000
END:STANDARD
END:VTIMEZONE
BEGIN:VEVENT
DTSTART;VALUE=DATE:20261024
DTEND;VALUE=DATE:20261025
DTSTAMP:20260424T213139
CREATED:20260107T184135Z
LAST-MODIFIED:20260107T185804Z
UID:10000504-1792800000-1792886399@avidcyclist.com
SUMMARY:Lake Sonoma MTB
DESCRIPTION:October 24th\, 2026 (Opens Feb. 1st\, 2026) \nThe return of the Classic Lake Sonoma MTB Hopper. Traditionally we have held this race in the early Spring but with the seasonal high water and creek crossings it’s just not possible; so we’ve pivoted to a Special Event\, stand alone race. This loop includes over 20 miles of narrow\, swoopy and flowing single track. With a shark tooth profile you’re either going up\, or down on a some of the best single track in NorCal.
URL:https://avidcyclist.com/event/lake-sonoma-mtb/
LOCATION:Lake Sonoma\, California\, Lake Sonoma\, California
CATEGORIES:Mountain,Mountain Bike,Race,Ride
ATTACH;FMTTYPE=image/jpeg:https://avidcyclist.com/wp-content/uploads/2026/01/lake-sonoma.jpg
GEO:38.759642;-123.0915605
END:VEVENT
END:VCALENDAR