BEGIN:VCALENDAR
VERSION:2.0
PRODID:-//Avid Cyclist - ECPv6.15.19//NONSGML v1.0//EN
CALSCALE:GREGORIAN
METHOD:PUBLISH
X-ORIGINAL-URL:https://avidcyclist.com
X-WR-CALDESC:Events for Avid Cyclist
REFRESH-INTERVAL;VALUE=DURATION:PT1H
X-Robots-Tag:noindex
X-PUBLISHED-TTL:PT1H
BEGIN:VTIMEZONE
TZID:America/Denver
BEGIN:DAYLIGHT
TZOFFSETFROM:-0700
TZOFFSETTO:-0600
TZNAME:MDT
DTSTART:20250309T090000
END:DAYLIGHT
BEGIN:STANDARD
TZOFFSETFROM:-0600
TZOFFSETTO:-0700
TZNAME:MST
DTSTART:20251102T080000
END:STANDARD
BEGIN:DAYLIGHT
TZOFFSETFROM:-0700
TZOFFSETTO:-0600
TZNAME:MDT
DTSTART:20260308T090000
END:DAYLIGHT
BEGIN:STANDARD
TZOFFSETFROM:-0600
TZOFFSETTO:-0700
TZNAME:MST
DTSTART:20261101T080000
END:STANDARD
BEGIN:DAYLIGHT
TZOFFSETFROM:-0700
TZOFFSETTO:-0600
TZNAME:MDT
DTSTART:20270314T090000
END:DAYLIGHT
BEGIN:STANDARD
TZOFFSETFROM:-0600
TZOFFSETTO:-0700
TZNAME:MST
DTSTART:20271107T080000
END:STANDARD
END:VTIMEZONE
BEGIN:VEVENT
DTSTART;VALUE=DATE:20260503
DTEND;VALUE=DATE:20260504
DTSTAMP:20260424T042514
CREATED:20251118T154408Z
LAST-MODIFIED:20251118T154408Z
UID:10000438-1777766400-1777852799@avidcyclist.com
SUMMARY:L'ETAPE  Last Vegas
DESCRIPTION:L’Étape Las Vegas gives amateur cyclists the legendary Tour de France experience in the legendary city of Las Vegas! Cyclists\, from seasoned veterans to beginners\, can compete for an authentic Yellow Jersey. Register now for the lowest prices of the year! \nL’ETAPE is best known for its annual one-day event held during the Tour De France on that year’s race and on the route used by the pros on the most challenging stage route of that year’s Tour De France. Fast forward\, and L’Étape by Tour de France offers amateur cyclists the legendary Tour de France experience in 21 different countries with 25 distinct events.  By registering for one L’Étape by Tour de France event\, including L’Étape Las Vegas\, you will be given access to an exclusive registration timeframe to secure your spot for L’Etape du Tour de France.  L’Etape Las Vegas is the sole U.S. destination for L’Étape by Tour de France. \n 
URL:https://avidcyclist.com/event/letape-last-vegas/
LOCATION:Las Vegas\, Nevada\, Las Vegas\, Nevada
CATEGORIES:Race,Ride,Road
ATTACH;FMTTYPE=image/png:https://avidcyclist.com/wp-content/uploads/letape.png
END:VEVENT
END:VCALENDAR