BEGIN:VCALENDAR
VERSION:2.0
PRODID:-//Avid Cyclist - ECPv6.15.19//NONSGML v1.0//EN
CALSCALE:GREGORIAN
METHOD:PUBLISH
X-WR-CALNAME:Avid Cyclist
X-ORIGINAL-URL:https://avidcyclist.com
X-WR-CALDESC:Events for Avid Cyclist
REFRESH-INTERVAL;VALUE=DURATION:PT1H
X-Robots-Tag:noindex
X-PUBLISHED-TTL:PT1H
BEGIN:VTIMEZONE
TZID:America/Denver
BEGIN:DAYLIGHT
TZOFFSETFROM:-0700
TZOFFSETTO:-0600
TZNAME:MDT
DTSTART:20250309T090000
END:DAYLIGHT
BEGIN:STANDARD
TZOFFSETFROM:-0600
TZOFFSETTO:-0700
TZNAME:MST
DTSTART:20251102T080000
END:STANDARD
BEGIN:DAYLIGHT
TZOFFSETFROM:-0700
TZOFFSETTO:-0600
TZNAME:MDT
DTSTART:20260308T090000
END:DAYLIGHT
BEGIN:STANDARD
TZOFFSETFROM:-0600
TZOFFSETTO:-0700
TZNAME:MST
DTSTART:20261101T080000
END:STANDARD
BEGIN:DAYLIGHT
TZOFFSETFROM:-0700
TZOFFSETTO:-0600
TZNAME:MDT
DTSTART:20270314T090000
END:DAYLIGHT
BEGIN:STANDARD
TZOFFSETFROM:-0600
TZOFFSETTO:-0700
TZNAME:MST
DTSTART:20271107T080000
END:STANDARD
END:VTIMEZONE
BEGIN:VEVENT
DTSTART;VALUE=DATE:20260611
DTEND;VALUE=DATE:20260615
DTSTAMP:20260425T054930
CREATED:20250319T042635Z
LAST-MODIFIED:20251208T162440Z
UID:10000063-1781136000-1781481599@avidcyclist.com
SUMMARY:Leadville Trail 100 MTB Camp
DESCRIPTION:Increase your chances of capturing that coveted Life Time LT100 MTB belt buckle by attending the Life Time Leadville Trail 100 MTB Training Camp presented by Kenetik. \nAcross three days\, you’ll cover every mile of the legendary course with special attention to the most grueling sections: Powerline\, St. Kevins and the iconic Columbine climb. In the evening\, you’ll join your experienced buckle-sporting guides for Q&A sessions on proper training\, diet\, bike setup and crewing logistics. \nCamp spots are limited and historically sell quickly\, so don’t wait to save your spot for this opportunity to ride with Leadville legends!
URL:https://avidcyclist.com/event/leadville-trail-100-mtb-camp/
LOCATION:Leadville\, Colorado\, Leadville\, CO\, United States
CATEGORIES:Clinic/Training,Mountain,Mountain Bike
ATTACH;FMTTYPE=image/jpeg:https://avidcyclist.com/wp-content/uploads/Leadville-100-Mountain-Bike-Camp.jpg
END:VEVENT
BEGIN:VEVENT
DTSTART;VALUE=DATE:20260712
DTEND;VALUE=DATE:20260713
DTSTAMP:20260425T054930
CREATED:20250319T042635Z
LAST-MODIFIED:20251202T183201Z
UID:10000062-1783814400-1783900799@avidcyclist.com
SUMMARY:Leadville Silver Rush 50 MTB Race
DESCRIPTION:Registration opens 1/9/26 \nPut your grit\, guts and determination to the test with a 50-mile course that packs more punch (per mile) than even the mighty Race Across the Sky. From technical climbs to high-speed descents\, the Silver Rush 50 MTB takes riders across Leadville’s breathtaking panoramas and under the shadow of 14\,000-foot Rocky Mountain peaks. With 8\,000 feet of elevation gain over 50 miles\, Silver Rush offers the perfect trial run — and qualifying event — for the LT100 MTB.
URL:https://avidcyclist.com/event/leadville-silver-rush-50-mtb-race/
LOCATION:Leadville\, Colorado\, Leadville\, CO\, United States
CATEGORIES:Mountain Bike
ATTACH;FMTTYPE=image/jpeg:https://avidcyclist.com/wp-content/uploads/Silver-Rush-50.jpg
END:VEVENT
BEGIN:VEVENT
DTSTART;VALUE=DATE:20260724
DTEND;VALUE=DATE:20260727
DTSTAMP:20260425T054930
CREATED:20250319T042632Z
LAST-MODIFIED:20251202T223732Z
UID:10000060-1784851200-1785110399@avidcyclist.com
SUMMARY:The Leadville MTB Stage Race
DESCRIPTION:From 10\,152 to 12\,424 feet of Colorado Rocky elevation\, the Life Time Leadville Stage Race takes on the breathtaking backdrops and soul-refining climbs of the iconic LT100 MTB course across three exciting days — earning you a shot to qualify for the Life Time LT100 MTB along the way. With post-race dinners\, daily awards and celebrations\, you’ll step into the warm embrace of the Cloud City family of gritty\, gutsy\, determined cyclists — and never look back. Come for three days of high-altitude riding\, stay to compete for a coveted belt buckle.
URL:https://avidcyclist.com/event/the-leadville-mtb-stage-race/
LOCATION:Leadville\, Colorado\, Leadville\, CO\, United States
CATEGORIES:Mountain,Mountain Bike,Race>Stage Race
ATTACH;FMTTYPE=image/jpeg:https://avidcyclist.com/wp-content/uploads/Leadville-Stage-Race.jpg
END:VEVENT
BEGIN:VEVENT
DTSTART;VALUE=DATE:20260815
DTEND;VALUE=DATE:20260816
DTSTAMP:20260425T054930
CREATED:20250319T042632Z
LAST-MODIFIED:20251208T162608Z
UID:10000059-1786752000-1786838399@avidcyclist.com
SUMMARY:Leadville Trail 100 MTB
DESCRIPTION:This is it. The Race of All Races. \nIn 1994\, 150 gutsy riders braved 100 miles of high-altitude\, extreme Rocky Mountain terrain — starting at 10\,152 feet\, climbing to 12\,424 feet and pedaling into global cycling history. Today\, the Life Time Leadville Trail 100 MTB is one of the most prestigious endurance cross-country MTB events in the world. Every year\, a select handful of gritty and determined cyclists make the pilgrimage to Cloud City to Race Across the Sky and take their shot at etching their name among the Leadville Legendary. The red carpet awaits. \n\n\nHISTORY\n\n\n\n\nThe Leadville Trail 100 MTB was first held in 1994 and has since become one of the most challenging and prestigious mountain bike races in the world. Riders take on a grueling 100-mile course that includes about 12\,000 feet of elevation gain\, reaching a peak elevation of 12\,600 feet above sea level at the summit of Columbine Mine. Over the years\, top athletes from around the world have come to Leadville for the ultimate test of Grit\, Guts and Determination\, on their quest for the coveted silver and gold beltbuckle.
URL:https://avidcyclist.com/event/leadville-trail-100-mtb/
LOCATION:Leadville\, Colorado\, Leadville\, CO\, United States
CATEGORIES:Mountain,Mountain Bike,Race,Ride
ATTACH;FMTTYPE=image/jpeg:https://avidcyclist.com/wp-content/uploads/leadville-100-1.jpg
END:VEVENT
END:VCALENDAR