BEGIN:VCALENDAR
VERSION:2.0
PRODID:-//Avid Cyclist - ECPv6.15.19//NONSGML v1.0//EN
CALSCALE:GREGORIAN
METHOD:PUBLISH
X-WR-CALNAME:Avid Cyclist
X-ORIGINAL-URL:https://avidcyclist.com
X-WR-CALDESC:Events for Avid Cyclist
REFRESH-INTERVAL;VALUE=DURATION:PT1H
X-Robots-Tag:noindex
X-PUBLISHED-TTL:PT1H
BEGIN:VTIMEZONE
TZID:America/Denver
BEGIN:DAYLIGHT
TZOFFSETFROM:-0700
TZOFFSETTO:-0600
TZNAME:MDT
DTSTART:20240310T090000
END:DAYLIGHT
BEGIN:STANDARD
TZOFFSETFROM:-0600
TZOFFSETTO:-0700
TZNAME:MST
DTSTART:20241103T080000
END:STANDARD
BEGIN:DAYLIGHT
TZOFFSETFROM:-0700
TZOFFSETTO:-0600
TZNAME:MDT
DTSTART:20250309T090000
END:DAYLIGHT
BEGIN:STANDARD
TZOFFSETFROM:-0600
TZOFFSETTO:-0700
TZNAME:MST
DTSTART:20251102T080000
END:STANDARD
BEGIN:DAYLIGHT
TZOFFSETFROM:-0700
TZOFFSETTO:-0600
TZNAME:MDT
DTSTART:20260308T090000
END:DAYLIGHT
BEGIN:STANDARD
TZOFFSETFROM:-0600
TZOFFSETTO:-0700
TZNAME:MST
DTSTART:20261101T080000
END:STANDARD
END:VTIMEZONE
BEGIN:VEVENT
DTSTART;VALUE=DATE:20251012
DTEND;VALUE=DATE:20251013
DTSTAMP:20260424T195054
CREATED:20250929T184403Z
LAST-MODIFIED:20250929T184403Z
UID:10000384-1760227200-1760313599@avidcyclist.com
SUMMARY:unPAved of the Susquehanna River Valley
DESCRIPTION:A premier gravel event through rewarding forest hills and idyllic farm country of Central Pennsylvania\n\n\n\nJoin us for a gravel celebration of the unPAved roads of Pennsylvania during a fabulous foliage show in mid-October.\nA relatively new event\, unPaved of the Susquehanna River Valley 2025 from GRO Races\, has gained rapid popularity\, attracting hundreds of riders who loved the routes and the weekend festival atmosphere in Lewisburg\, PA. Each route showcases some of the best gravel riding Pennsylvania offers and has become one of the Best Gravel Events in the Mid-Atlantic.
URL:https://avidcyclist.com/event/unpaved-of-the-susquehanna-river-valley/
LOCATION:Lewisburg\, Pennsylvania\, Lewisburg\, Pennsylvania
CATEGORIES:Gravel,Race,Ride
ATTACH;FMTTYPE=image/jpeg:https://avidcyclist.com/wp-content/uploads/unpaved.jpg
END:VEVENT
END:VCALENDAR