BEGIN:VCALENDAR
VERSION:2.0
PRODID:-//Avid Cyclist - ECPv6.15.19//NONSGML v1.0//EN
CALSCALE:GREGORIAN
METHOD:PUBLISH
X-ORIGINAL-URL:https://avidcyclist.com
X-WR-CALDESC:Events for Avid Cyclist
REFRESH-INTERVAL;VALUE=DURATION:PT1H
X-Robots-Tag:noindex
X-PUBLISHED-TTL:PT1H
BEGIN:VTIMEZONE
TZID:America/Denver
BEGIN:DAYLIGHT
TZOFFSETFROM:-0700
TZOFFSETTO:-0600
TZNAME:MDT
DTSTART:20250309T090000
END:DAYLIGHT
BEGIN:STANDARD
TZOFFSETFROM:-0600
TZOFFSETTO:-0700
TZNAME:MST
DTSTART:20251102T080000
END:STANDARD
BEGIN:DAYLIGHT
TZOFFSETFROM:-0700
TZOFFSETTO:-0600
TZNAME:MDT
DTSTART:20260308T090000
END:DAYLIGHT
BEGIN:STANDARD
TZOFFSETFROM:-0600
TZOFFSETTO:-0700
TZNAME:MST
DTSTART:20261101T080000
END:STANDARD
BEGIN:DAYLIGHT
TZOFFSETFROM:-0700
TZOFFSETTO:-0600
TZNAME:MDT
DTSTART:20270314T090000
END:DAYLIGHT
BEGIN:STANDARD
TZOFFSETFROM:-0600
TZOFFSETTO:-0700
TZNAME:MST
DTSTART:20271107T080000
END:STANDARD
END:VTIMEZONE
BEGIN:VEVENT
DTSTART;VALUE=DATE:20260819
DTEND;VALUE=DATE:20260824
DTSTAMP:20260425T053939
CREATED:20251210T200826Z
LAST-MODIFIED:20260422T135803Z
UID:10000497-1787097600-1787529599@avidcyclist.com
SUMMARY:Gravel Worlds
DESCRIPTION:Gravel Worlds 2026 will celebrate its annual event and as a testament to the quality of the event\, Lauf is the title sponsor\, and it is rated  among the Best Midwest Gravel Events. Gravel Worlds 2026 offers four gravel cycling course options ranging from 50k – to 300 miles and three gravel running options in its recently created running event that is also a part of the festival. Gravel Worlds 2026\, an event that started humbly in 2010\, has evolved into a grand celebration of camaraderie\, challenge\, and unbridled cycling joy.
URL:https://avidcyclist.com/event/gravel-worlds/
LOCATION:Lincoln\, Nebraska\, Lincoln\, Nebraska
CATEGORIES:Gravel,Race
ATTACH;FMTTYPE=image/png:https://avidcyclist.com/wp-content/uploads/https___www.gravelworlds.com_-1.png
END:VEVENT
END:VCALENDAR