BEGIN:VCALENDAR
VERSION:2.0
PRODID:-//Avid Cyclist - ECPv6.15.19//NONSGML v1.0//EN
CALSCALE:GREGORIAN
METHOD:PUBLISH
X-WR-CALNAME:Avid Cyclist
X-ORIGINAL-URL:https://avidcyclist.com
X-WR-CALDESC:Events for Avid Cyclist
REFRESH-INTERVAL;VALUE=DURATION:PT1H
X-Robots-Tag:noindex
X-PUBLISHED-TTL:PT1H
BEGIN:VTIMEZONE
TZID:America/Denver
BEGIN:DAYLIGHT
TZOFFSETFROM:-0700
TZOFFSETTO:-0600
TZNAME:MDT
DTSTART:20250309T090000
END:DAYLIGHT
BEGIN:STANDARD
TZOFFSETFROM:-0600
TZOFFSETTO:-0700
TZNAME:MST
DTSTART:20251102T080000
END:STANDARD
BEGIN:DAYLIGHT
TZOFFSETFROM:-0700
TZOFFSETTO:-0600
TZNAME:MDT
DTSTART:20260308T090000
END:DAYLIGHT
BEGIN:STANDARD
TZOFFSETFROM:-0600
TZOFFSETTO:-0700
TZNAME:MST
DTSTART:20261101T080000
END:STANDARD
BEGIN:DAYLIGHT
TZOFFSETFROM:-0700
TZOFFSETTO:-0600
TZNAME:MDT
DTSTART:20270314T090000
END:DAYLIGHT
BEGIN:STANDARD
TZOFFSETFROM:-0600
TZOFFSETTO:-0700
TZNAME:MST
DTSTART:20271107T080000
END:STANDARD
END:VTIMEZONE
BEGIN:VEVENT
DTSTART;TZID=America/Denver:20260201T080000
DTEND;TZID=America/Denver:20260201T170000
DTSTAMP:20260424T164511
CREATED:20250911T190359Z
LAST-MODIFIED:20260123T195016Z
UID:10000370-1769932800-1769965200@avidcyclist.com
SUMMARY:Old Man Winter Rally
DESCRIPTION:Old Man Winter Bike Rally & Run is a must-do Colorado endurance festival with mixed terrain adventures for all levels of riders and runners
URL:https://avidcyclist.com/event/old-man-winter-rally/
LOCATION:Lyons\, Colorado\, Lyons\, CO\, United States
CATEGORIES:Festival,Gravel,Mountain Bike
ATTACH;FMTTYPE=image/jpeg:https://avidcyclist.com/wp-content/uploads/old-man-winter-ralley-1.jpg
END:VEVENT
END:VCALENDAR