BEGIN:VCALENDAR
VERSION:2.0
PRODID:-//Avid Cyclist - ECPv6.15.19//NONSGML v1.0//EN
CALSCALE:GREGORIAN
METHOD:PUBLISH
X-ORIGINAL-URL:https://avidcyclist.com
X-WR-CALDESC:Events for Avid Cyclist
REFRESH-INTERVAL;VALUE=DURATION:PT1H
X-Robots-Tag:noindex
X-PUBLISHED-TTL:PT1H
BEGIN:VTIMEZONE
TZID:America/Denver
BEGIN:DAYLIGHT
TZOFFSETFROM:-0700
TZOFFSETTO:-0600
TZNAME:MDT
DTSTART:20240310T090000
END:DAYLIGHT
BEGIN:STANDARD
TZOFFSETFROM:-0600
TZOFFSETTO:-0700
TZNAME:MST
DTSTART:20241103T080000
END:STANDARD
BEGIN:DAYLIGHT
TZOFFSETFROM:-0700
TZOFFSETTO:-0600
TZNAME:MDT
DTSTART:20250309T090000
END:DAYLIGHT
BEGIN:STANDARD
TZOFFSETFROM:-0600
TZOFFSETTO:-0700
TZNAME:MST
DTSTART:20251102T080000
END:STANDARD
BEGIN:DAYLIGHT
TZOFFSETFROM:-0700
TZOFFSETTO:-0600
TZNAME:MDT
DTSTART:20260308T090000
END:DAYLIGHT
BEGIN:STANDARD
TZOFFSETFROM:-0600
TZOFFSETTO:-0700
TZNAME:MST
DTSTART:20261101T080000
END:STANDARD
END:VTIMEZONE
BEGIN:VEVENT
DTSTART;VALUE=DATE:20251025
DTEND;VALUE=DATE:20251026
DTSTAMP:20260425T061911
CREATED:20250930T141031Z
LAST-MODIFIED:20250930T141031Z
UID:10000394-1761350400-1761436799@avidcyclist.com
SUMMARY:Grand Fondue
DESCRIPTION:Join us at Orchid Cellar Meadery & Winery on Saturday\, October 25th for a casual and fun\, yet challenging ride on a variety of terrain (road\, gravel\, dirt). The routes begin in Middletown\, MD and tour through various parts of Frederick County. Be prepared to ride a mixture of terrain both on and off-road (pavement\, gravel\, trail) \nEvent entry includes: Custom routes (along with GPS files and cue sheets)\, stocked aid stations (Half & Grand routes only)\, event glasses with ONE free drink per participant served at Orchid Cellar following the ride (for participants 21 and over only)\, ride snacks\, live music\, and various prizes/giveaways! \nRegistration Opens in August (entry fee increase on 9/1 and 10/1): \n\n\nGrand Fondue – $50\, $60\, $70 \n\n\nHalf Fondue – $40\, $50\, $60 \n\n\nMini Fondue – $30\, $40\, $50 \n\n\nNO refunds\, transfers\, or deferments. All no-show registration will be donated to Heartly House. \nStart Times: 8:00-9:00am (Grand); 9:00-10:00am (Half); 10:00-11:00am (Mini) \nLocation: Orchid Cellar Meadery & Winery – 8546 Pete Wiles Rd\, Middletown\, MD 21769 \nDistance & Elevation: Mini – approx 25 miles & 2\,000 ft elevation; Half – approx 50 miles & 5\,500 ft elevation; Grand – approx 100 miles & 10\,000 ft elevation \nDifficulty: Mini (moderate)\, Half (challenging)\, Grand (extremely challenging) \nTerrain (mixed-surface): pavement\, gravel\, and some trail
URL:https://avidcyclist.com/event/grand-fondue/
LOCATION:Middletown\, Maryland\, Middletown\, MD\, United States
CATEGORIES:Fondo,Gravel,Race,Ride
ATTACH;FMTTYPE=image/jpeg:https://avidcyclist.com/wp-content/uploads/grand-fondue.jpg
ORGANIZER;CN="Dirty Kitten Productions":MAILTO:info@dirtykittengravel.com
END:VEVENT
END:VCALENDAR