BEGIN:VCALENDAR
VERSION:2.0
PRODID:-//Avid Cyclist - ECPv6.15.19//NONSGML v1.0//EN
CALSCALE:GREGORIAN
METHOD:PUBLISH
X-WR-CALNAME:Avid Cyclist
X-ORIGINAL-URL:https://avidcyclist.com
X-WR-CALDESC:Events for Avid Cyclist
REFRESH-INTERVAL;VALUE=DURATION:PT1H
X-Robots-Tag:noindex
X-PUBLISHED-TTL:PT1H
BEGIN:VTIMEZONE
TZID:America/Denver
BEGIN:DAYLIGHT
TZOFFSETFROM:-0700
TZOFFSETTO:-0600
TZNAME:MDT
DTSTART:20250309T090000
END:DAYLIGHT
BEGIN:STANDARD
TZOFFSETFROM:-0600
TZOFFSETTO:-0700
TZNAME:MST
DTSTART:20251102T080000
END:STANDARD
BEGIN:DAYLIGHT
TZOFFSETFROM:-0700
TZOFFSETTO:-0600
TZNAME:MDT
DTSTART:20260308T090000
END:DAYLIGHT
BEGIN:STANDARD
TZOFFSETFROM:-0600
TZOFFSETTO:-0700
TZNAME:MST
DTSTART:20261101T080000
END:STANDARD
BEGIN:DAYLIGHT
TZOFFSETFROM:-0700
TZOFFSETTO:-0600
TZNAME:MDT
DTSTART:20270314T090000
END:DAYLIGHT
BEGIN:STANDARD
TZOFFSETFROM:-0600
TZOFFSETTO:-0700
TZNAME:MST
DTSTART:20271107T080000
END:STANDARD
END:VTIMEZONE
BEGIN:VEVENT
DTSTART;VALUE=DATE:20260502
DTEND;VALUE=DATE:20260504
DTSTAMP:20260425T053027
CREATED:20250319T042649Z
LAST-MODIFIED:20251118T152146Z
UID:10000066-1777680000-1777852799@avidcyclist.com
SUMMARY:Moab Fondo Fest
DESCRIPTION:At the TransRockies Moab Fondo Fest\, we’re bringing you two incredible events\, and the choice is yours – Gran Fondo Moab on Saturday or Gravel Fondo Moab on Sunday. Or\, for the ultimate challenge\, tackle both events back-to-back! \nGet ready for an extraordinary weekend of cycling like never before! Join us on Saturday\, May 2nd\, and Sunday\, May 3rd\, 2026\, for an unforgettable journey through the stunning landscapes of Moab\,
URL:https://avidcyclist.com/event/moab-fondo-fest-utah/
LOCATION:Moab\, Utah\, Moab\, UT\, United States
CATEGORIES:Fondo,Gravel
ATTACH;FMTTYPE=image/jpeg:https://avidcyclist.com/wp-content/uploads/Moab-Fondo-Fest.jpg
ORGANIZER;CN="TransRockies Race Series":MAILTO:aaron@transrockies.com
END:VEVENT
BEGIN:VEVENT
DTSTART;VALUE=DATE:20260502
DTEND;VALUE=DATE:20260505
DTSTAMP:20260425T053027
CREATED:20250319T043322Z
LAST-MODIFIED:20251113T162158Z
UID:10000096-1777680000-1777939199@avidcyclist.com
SUMMARY:Moab Rocks
DESCRIPTION:Giddy up and get ready to ride Moab!  Long known as one of the world’s most iconic mountain biking destinations\, Moab has played host to riders from far and wide.  In recent years\, the Moab mountain biking community has worked tirelessly building epic trails and growing its reputation as a mountain bike Mecca. \nWhether you’re a pro looking to jumpstart your race season or a weekend warrior with your sights set on finishing with a smile\, Moab Rocks is three days of racing that’s sure to leave you wanting more! \nOver three fully supported stages—covering 76 miles (123km) and 7\,800 feet (2\,400m) of elevation—you’ll race on legendary trails like Porcupine Rim and modern classics like Bar M Trails and Mag 7. In all\, it’s a fraction of what the Moab area has to offer\, but only the best of the best make the cut. \nOnce described as the “Unofficial Down-Country World Championships” by mountain bike racing legend\, Geoff Kabush\, Moab Rocks doesn’t pull any punches. This is a race\, a festival\, a family-friendly vacation and an adventure all rolled into one.
URL:https://avidcyclist.com/event/moab-rocks/
LOCATION:Moab\, Utah\, Moab\, UT\, United States
CATEGORIES:Mountain Bike,Race,Ride
ATTACH;FMTTYPE=image/jpeg:https://avidcyclist.com/wp-content/uploads/Moab-Rocks-1.jpg
ORGANIZER;CN="TransRockies Race Series":MAILTO:aaron@transrockies.com
END:VEVENT
END:VCALENDAR