BEGIN:VCALENDAR
VERSION:2.0
PRODID:-//Avid Cyclist - ECPv6.15.19//NONSGML v1.0//EN
CALSCALE:GREGORIAN
METHOD:PUBLISH
X-ORIGINAL-URL:https://avidcyclist.com
X-WR-CALDESC:Events for Avid Cyclist
REFRESH-INTERVAL;VALUE=DURATION:PT1H
X-Robots-Tag:noindex
X-PUBLISHED-TTL:PT1H
BEGIN:VTIMEZONE
TZID:America/Denver
BEGIN:DAYLIGHT
TZOFFSETFROM:-0700
TZOFFSETTO:-0600
TZNAME:MDT
DTSTART:20240310T090000
END:DAYLIGHT
BEGIN:STANDARD
TZOFFSETFROM:-0600
TZOFFSETTO:-0700
TZNAME:MST
DTSTART:20241103T080000
END:STANDARD
BEGIN:DAYLIGHT
TZOFFSETFROM:-0700
TZOFFSETTO:-0600
TZNAME:MDT
DTSTART:20250309T090000
END:DAYLIGHT
BEGIN:STANDARD
TZOFFSETFROM:-0600
TZOFFSETTO:-0700
TZNAME:MST
DTSTART:20251102T080000
END:STANDARD
BEGIN:DAYLIGHT
TZOFFSETFROM:-0700
TZOFFSETTO:-0600
TZNAME:MDT
DTSTART:20260308T090000
END:DAYLIGHT
BEGIN:STANDARD
TZOFFSETFROM:-0600
TZOFFSETTO:-0700
TZNAME:MST
DTSTART:20261101T080000
END:STANDARD
END:VTIMEZONE
BEGIN:VEVENT
DTSTART;VALUE=DATE:20251101
DTEND;VALUE=DATE:20251102
DTSTAMP:20260422T172126
CREATED:20250930T142319Z
LAST-MODIFIED:20250930T142319Z
UID:10000396-1761955200-1762041599@avidcyclist.com
SUMMARY:The Appalachian Mountaineer
DESCRIPTION:Gravel cycling enthusiasts gather round – The Appalachian Mountaineer in New Castle\, VA\, is calling your name\, and it promises to be better than ever this year. Brought to you by Journey Productions\, this event stands out in the world of gravel riding with its unique combination of challenging terrain\, breathtaking views\, and unbeatable post-ride hospitality. The narrow forest roads\, old rail beds\, and the famous ridgeline exposure of Bald Knob offer a riding experience like no other. As a participant\, you can choose from multiple distance options\, and upon finishing\, you’re welcomed back with campfire hospitality\, a delicious meal\, and a refreshing cold beverage. \n\n\n\nThe Appalachian Mountaineer is a cousin the Journey\, in that it is also in Virginia\, run on gravel\, and built with the same stoke and fire you expect in Floyd in the spring. But that’s where the similarities end. \nIn Floyd you roll along through the soul of Appalachia farm land\, with punchy climbs and amazing descents. In Craig… let’s just say things get a little bigger\, a little bolder\, and we can’t wait to share it with you. \nOpposing the “Dragons Back” our current Mountaineer courses traverse the beautiful exposure of Bald Knob before dropping back down to the valley and crossing the river by foot bridge and then fast rolling home.
URL:https://avidcyclist.com/event/the-appalachian-mountaineer/
LOCATION:New Castle\, Virginia\, New Castle\, Virginia
CATEGORIES:Gravel,Race,Ride
ATTACH;FMTTYPE=image/jpeg:https://avidcyclist.com/wp-content/uploads/the-appalachian-mountaineer.jpg
END:VEVENT
END:VCALENDAR