BEGIN:VCALENDAR
VERSION:2.0
PRODID:-//Avid Cyclist - ECPv6.15.19//NONSGML v1.0//EN
CALSCALE:GREGORIAN
METHOD:PUBLISH
X-WR-CALNAME:Avid Cyclist
X-ORIGINAL-URL:https://avidcyclist.com
X-WR-CALDESC:Events for Avid Cyclist
REFRESH-INTERVAL;VALUE=DURATION:PT1H
X-Robots-Tag:noindex
X-PUBLISHED-TTL:PT1H
BEGIN:VTIMEZONE
TZID:America/Denver
BEGIN:DAYLIGHT
TZOFFSETFROM:-0700
TZOFFSETTO:-0600
TZNAME:MDT
DTSTART:20250309T090000
END:DAYLIGHT
BEGIN:STANDARD
TZOFFSETFROM:-0600
TZOFFSETTO:-0700
TZNAME:MST
DTSTART:20251102T080000
END:STANDARD
BEGIN:DAYLIGHT
TZOFFSETFROM:-0700
TZOFFSETTO:-0600
TZNAME:MDT
DTSTART:20260308T090000
END:DAYLIGHT
BEGIN:STANDARD
TZOFFSETFROM:-0600
TZOFFSETTO:-0700
TZNAME:MST
DTSTART:20261101T080000
END:STANDARD
BEGIN:DAYLIGHT
TZOFFSETFROM:-0700
TZOFFSETTO:-0600
TZNAME:MDT
DTSTART:20270314T090000
END:DAYLIGHT
BEGIN:STANDARD
TZOFFSETFROM:-0600
TZOFFSETTO:-0700
TZNAME:MST
DTSTART:20271107T080000
END:STANDARD
END:VTIMEZONE
BEGIN:VEVENT
DTSTART;TZID=America/Denver:20260704T160000
DTEND;TZID=America/Denver:20260709T170000
DTSTAMP:20260425T070923
CREATED:20260115T040332Z
LAST-MODIFIED:20260115T040332Z
UID:10000522-1783180800-1783616400@avidcyclist.com
SUMMARY:Bike Northwoods Tour powered by Bike Wisconsin
DESCRIPTION:The Bike Northwoods Tour is an annual 6-day ride in and around Wisconsin’s rustic Northwoods. Enjoy cycling between 150 to 300 miles on serene\, lightly traveled roads surrounded by nature! \n2026 Ride Schedule:\nSat. July 4th – Arrival day in Manitowish Waters\nSun. July 5th – Layover day in Manitowish Waters\nMon. July 6th – Manitowish Waters to Park Falls\nTue. July 7th – Layover day in Park Falls\nWed. July 8th – Park Falls to Minocqua\nThu. July 9th – Layover day in Minocqua\nFri. July 10th – Minocqua to Manitowish Waters \nThe Bike Northwoods Tour will be a loop (starting and ending at the same location) with a layover day in each stopping town. Transportation service will not be necessary!
URL:https://avidcyclist.com/event/bike-northwoods-tour-powered-by-bike-wisconsin/
LOCATION:North Lakeland School District\, 12686 County Rd. K\, Manitowish Waters\, WI\, 54545\, United States
CATEGORIES:Fondo,Ride,Road
ATTACH;FMTTYPE=image/jpeg:https://avidcyclist.com/wp-content/uploads/2026/01/picture08112-scaled.jpg
ORGANIZER;CN="Bike Wisconsin":MAILTO:bikewisconsin@bikewisconsin.com
GEO:46.1596554;-89.8050135
X-APPLE-STRUCTURED-LOCATION;VALUE=URI;X-ADDRESS=North Lakeland School District 12686 County Rd. K Manitowish Waters WI 54545 United States;X-APPLE-RADIUS=500;X-TITLE=12686 County Rd. K:geo:-89.8050135,46.1596554
END:VEVENT
END:VCALENDAR