BEGIN:VCALENDAR
VERSION:2.0
PRODID:-//Avid Cyclist - ECPv6.15.19//NONSGML v1.0//EN
CALSCALE:GREGORIAN
METHOD:PUBLISH
X-WR-CALNAME:Avid Cyclist
X-ORIGINAL-URL:https://avidcyclist.com
X-WR-CALDESC:Events for Avid Cyclist
REFRESH-INTERVAL;VALUE=DURATION:PT1H
X-Robots-Tag:noindex
X-PUBLISHED-TTL:PT1H
BEGIN:VTIMEZONE
TZID:America/Denver
BEGIN:DAYLIGHT
TZOFFSETFROM:-0700
TZOFFSETTO:-0600
TZNAME:MDT
DTSTART:20240310T090000
END:DAYLIGHT
BEGIN:STANDARD
TZOFFSETFROM:-0600
TZOFFSETTO:-0700
TZNAME:MST
DTSTART:20241103T080000
END:STANDARD
BEGIN:DAYLIGHT
TZOFFSETFROM:-0700
TZOFFSETTO:-0600
TZNAME:MDT
DTSTART:20250309T090000
END:DAYLIGHT
BEGIN:STANDARD
TZOFFSETFROM:-0600
TZOFFSETTO:-0700
TZNAME:MST
DTSTART:20251102T080000
END:STANDARD
BEGIN:DAYLIGHT
TZOFFSETFROM:-0700
TZOFFSETTO:-0600
TZNAME:MDT
DTSTART:20260308T090000
END:DAYLIGHT
BEGIN:STANDARD
TZOFFSETFROM:-0600
TZOFFSETTO:-0700
TZNAME:MST
DTSTART:20261101T080000
END:STANDARD
END:VTIMEZONE
BEGIN:VEVENT
DTSTART;VALUE=DATE:20250919
DTEND;VALUE=DATE:20250922
DTSTAMP:20260425T080650
CREATED:20250415T181700Z
LAST-MODIFIED:20250415T181700Z
UID:10000194-1758240000-1758499199@avidcyclist.com
SUMMARY:The Last Grizzley Gravel
DESCRIPTION:Join the team of Breakaway Promotions for another spectacular celebration of gravel at the three-day\, all-inclusive gravel stage race\, the Last Grizzly Gravel!  The adventure starts in Northern Utah before heading across the border into Idaho traversing the the Bear Mountain Range in Wasatch/Cache National Forest. Come witness the amazing brilliance of golds of the high aspens to the cobalt colors of Northern Utah’s famous Bear Lake. \nTeam Breakaway is excited to announce that in 2025 we will be partnering with ENVE Composites on the Last Grizzly Gravel Stage Race!  ENVE will be the presenting sponsor for the inaugural event that is based in Northern Utah September 19-21st\, 2025.  What makes this partnership even better is that ENVE Composites is located in Ogden\, Utah the start and finish for this three-day point-to-point stage race. ​ \nThe Last Grizzly Gravel is a 3-day all-inclusive gravel bike ride and race\, traversing Utah and Idaho with spectacular views of the Bear Lake\, a natural freshwater lake on the Idaho–Utah border in the Western United States. About 109 square miles in size\, it is split about equally between the two states; its Utah portion comprises the second-largest natural freshwater lake in Utah\, after Utah Lake. \nThe event will take place September 19-21st\, 2025\, and is limited to only 300 riders.  Like its bigger cousin in Oregon\, The Oregon Trail\, our team will provide high-quality camping locations\, full logistical support\, and breathtaking courses.  If you are ready to take on this 270 miles 20\,000-foot challenge sign up now to secure your spot.  The event will begin and end in the historic town of Ogden\, Utah one of the fastest growing towns for the outdoor industry. \n​
URL:https://avidcyclist.com/event/the-last-grizzley-gravel/
LOCATION:Ogden\, Utah\, Ogden\, Utah
CATEGORIES:Gravel
ATTACH;FMTTYPE=image/png:https://avidcyclist.com/wp-content/uploads/Last-Grizzley-Gravel.png
ORGANIZER;CN="breakaway":MAILTO:grinderinfo@breakawaypro.com
END:VEVENT
BEGIN:VEVENT
DTSTART;VALUE=DATE:20250719
DTEND;VALUE=DATE:20250720
DTSTAMP:20260425T080650
CREATED:20250415T154812Z
LAST-MODIFIED:20250415T154812Z
UID:10000189-1752883200-1752969599@avidcyclist.com
SUMMARY:Iron Lung Ride
DESCRIPTION:Iron Lung Ride\, Ogden Valley\, UT\, 34\, 80\, or 100 mile options out and back starting in Huntsville with a solid climb up Old Snowbasin Road\, down Trappers Loop\, through Morgan and out to the top of Big Mountain. Challenging climbing\, with plenty of rollers and flats to recover. Utah Triple Crank qualifier\, along with LOTOJA and Huntsman Sportfest.
URL:https://avidcyclist.com/event/iron-lung-ride/
LOCATION:Ogden\, Utah\, Ogden\, Utah
CATEGORIES:Ride,Road
ATTACH;FMTTYPE=image/png:https://avidcyclist.com/wp-content/uploads/Iron-Lung-Ride.png
END:VEVENT
END:VCALENDAR