BEGIN:VCALENDAR
VERSION:2.0
PRODID:-//Avid Cyclist - ECPv6.15.19//NONSGML v1.0//EN
CALSCALE:GREGORIAN
METHOD:PUBLISH
X-ORIGINAL-URL:https://avidcyclist.com
X-WR-CALDESC:Events for Avid Cyclist
REFRESH-INTERVAL;VALUE=DURATION:PT1H
X-Robots-Tag:noindex
X-PUBLISHED-TTL:PT1H
BEGIN:VTIMEZONE
TZID:America/Denver
BEGIN:DAYLIGHT
TZOFFSETFROM:-0700
TZOFFSETTO:-0600
TZNAME:MDT
DTSTART:20250309T090000
END:DAYLIGHT
BEGIN:STANDARD
TZOFFSETFROM:-0600
TZOFFSETTO:-0700
TZNAME:MST
DTSTART:20251102T080000
END:STANDARD
BEGIN:DAYLIGHT
TZOFFSETFROM:-0700
TZOFFSETTO:-0600
TZNAME:MDT
DTSTART:20260308T090000
END:DAYLIGHT
BEGIN:STANDARD
TZOFFSETFROM:-0600
TZOFFSETTO:-0700
TZNAME:MST
DTSTART:20261101T080000
END:STANDARD
BEGIN:DAYLIGHT
TZOFFSETFROM:-0700
TZOFFSETTO:-0600
TZNAME:MDT
DTSTART:20270314T090000
END:DAYLIGHT
BEGIN:STANDARD
TZOFFSETFROM:-0600
TZOFFSETTO:-0700
TZNAME:MST
DTSTART:20271107T080000
END:STANDARD
END:VTIMEZONE
BEGIN:VEVENT
DTSTART;TZID=America/Denver:20260620T080000
DTEND;TZID=America/Denver:20260620T170000
DTSTAMP:20260424T160417
CREATED:20251120T160526Z
LAST-MODIFIED:20251120T160526Z
UID:10000458-1781942400-1781974800@avidcyclist.com
SUMMARY:Kettle Mettle Dirty Fondo
DESCRIPTION:We are excited to welcome you to the Similkameen Valley on June 20\, 2026 for the 11th annual Kettle Mettle Gravel Fondo. This event holds it’s title as the oldest Gravel Fondo in Western Canada.\nSituated in the stunning Similkameen Valley\, our course carves its way through grassland valleys\, historic trestles\, and shaded decommissioned railway tunnels. You can expect panoramic views of crystal clear lakes as you climb and descend the sweeping switchbacks of the Kettle Valley Rail Trail as well as amazing FSR’s.
URL:https://avidcyclist.com/event/kettle-mettle-dirty-fondo/
LOCATION:Okanagan\, Canada\, Okanagan\, Canada
CATEGORIES:Fondo,Gravel
ATTACH;FMTTYPE=image/png:https://avidcyclist.com/wp-content/uploads/kettle-mettle.png
END:VEVENT
END:VCALENDAR