BEGIN:VCALENDAR
VERSION:2.0
PRODID:-//Avid Cyclist - ECPv6.15.19//NONSGML v1.0//EN
CALSCALE:GREGORIAN
METHOD:PUBLISH
X-ORIGINAL-URL:https://avidcyclist.com
X-WR-CALDESC:Events for Avid Cyclist
REFRESH-INTERVAL;VALUE=DURATION:PT1H
X-Robots-Tag:noindex
X-PUBLISHED-TTL:PT1H
BEGIN:VTIMEZONE
TZID:America/Denver
BEGIN:DAYLIGHT
TZOFFSETFROM:-0700
TZOFFSETTO:-0600
TZNAME:MDT
DTSTART:20250309T090000
END:DAYLIGHT
BEGIN:STANDARD
TZOFFSETFROM:-0600
TZOFFSETTO:-0700
TZNAME:MST
DTSTART:20251102T080000
END:STANDARD
BEGIN:DAYLIGHT
TZOFFSETFROM:-0700
TZOFFSETTO:-0600
TZNAME:MDT
DTSTART:20260308T090000
END:DAYLIGHT
BEGIN:STANDARD
TZOFFSETFROM:-0600
TZOFFSETTO:-0700
TZNAME:MST
DTSTART:20261101T080000
END:STANDARD
BEGIN:DAYLIGHT
TZOFFSETFROM:-0700
TZOFFSETTO:-0600
TZNAME:MDT
DTSTART:20270314T090000
END:DAYLIGHT
BEGIN:STANDARD
TZOFFSETFROM:-0600
TZOFFSETTO:-0700
TZNAME:MST
DTSTART:20271107T080000
END:STANDARD
END:VTIMEZONE
BEGIN:VEVENT
DTSTART;VALUE=DATE:20260919
DTEND;VALUE=DATE:20260920
DTSTAMP:20260422T135732
CREATED:20250319T042715Z
LAST-MODIFIED:20260225T181113Z
UID:10000072-1789776000-1789862399@avidcyclist.com
SUMMARY:Tour de Vineyards
DESCRIPTION:THE WINE RIDE\n\n\n\n\n\nRIDE COLORADO’S WINE COUNTRY\n\n\n\n\n\n\n\n\n\n\nChock-full of wineries\, vineyards\, orchards and mesas\, our 31st anniversary tour has a little something for everyone\nCelebrate the beginnings of fall with a scenic tour of Colorado Wine Country on September 21.  Choose between a leisurely 23-mile route along the Palisade Fruit & Wine Byway or the more challenging 58-mile course that adds on a loop up and over Reeder Mesa. \nBoth routes showcase the splendor of the Grand Valley and the beauty of the Western Slope. Chock-full of wineries\, vineyards\, orchards and mesas\, our 30th annual tour has a little something for everyone. After a good ride\, enjoy a hearty meal right at the finish line in downtown Palisade and then head over to the Colorado Mountain Winefest (you will need a separate ticket)\, held just a few blocks away at Riverbend Park.
URL:https://avidcyclist.com/event/tour-de-vineyards/
LOCATION:Palisade\, Colorado\, Palisade\, CO\, United States
CATEGORIES:Ride,Road
ATTACH;FMTTYPE=image/png:https://avidcyclist.com/wp-content/uploads/2025/03/tour-de-vinyards.png
ORGANIZER;CN="The Ride Collective":MAILTO:support@theridecollective.com ;
END:VEVENT
END:VCALENDAR