BEGIN:VCALENDAR
VERSION:2.0
PRODID:-//Avid Cyclist - ECPv6.15.19//NONSGML v1.0//EN
CALSCALE:GREGORIAN
METHOD:PUBLISH
X-ORIGINAL-URL:https://avidcyclist.com
X-WR-CALDESC:Events for Avid Cyclist
REFRESH-INTERVAL;VALUE=DURATION:PT1H
X-Robots-Tag:noindex
X-PUBLISHED-TTL:PT1H
BEGIN:VTIMEZONE
TZID:America/Denver
BEGIN:DAYLIGHT
TZOFFSETFROM:-0700
TZOFFSETTO:-0600
TZNAME:MDT
DTSTART:20250309T090000
END:DAYLIGHT
BEGIN:STANDARD
TZOFFSETFROM:-0600
TZOFFSETTO:-0700
TZNAME:MST
DTSTART:20251102T080000
END:STANDARD
BEGIN:DAYLIGHT
TZOFFSETFROM:-0700
TZOFFSETTO:-0600
TZNAME:MDT
DTSTART:20260308T090000
END:DAYLIGHT
BEGIN:STANDARD
TZOFFSETFROM:-0600
TZOFFSETTO:-0700
TZNAME:MST
DTSTART:20261101T080000
END:STANDARD
BEGIN:DAYLIGHT
TZOFFSETFROM:-0700
TZOFFSETTO:-0600
TZNAME:MDT
DTSTART:20270314T090000
END:DAYLIGHT
BEGIN:STANDARD
TZOFFSETFROM:-0600
TZOFFSETTO:-0700
TZNAME:MST
DTSTART:20271107T080000
END:STANDARD
END:VTIMEZONE
BEGIN:VEVENT
DTSTART;VALUE=DATE:20260207
DTEND;VALUE=DATE:20260208
DTSTAMP:20260424T182421
CREATED:20251020T195006Z
LAST-MODIFIED:20251020T214839Z
UID:10000408-1770422400-1770508799@avidcyclist.com
SUMMARY:Tour de Palm Springs
DESCRIPTION:The Tour de Palm Springs is one of the largest and most festive cycling charity events of its kind in America. Every year\, we entertain up to 8\,000 cyclists from 46 different states and 4 countries. Since 1998\, and with the help of 1\,500 volunteers\, the Tour de Palm Springs has raised nearly $5\,000\,000 for over 150 local nonprofit organizations. \nSpecial Offers and Info: \n\nRidership is limited\, so be sure to Click Here to Register.\nThe first 5\,000 registrants will be entered into a drawing for a FREE weekend stay at Palm Springs Hilton.\nEach cyclist and walker will receive a Tour de Palm Springs finishing medal.\nE-Bikes are welcome!\nRentals and Repairs available at Big Wheel Tours and Tri a Bike.\n\nPlease Contact Our Office: Click here to contact us for any inquiries or more details. \nCVSPIN 501(C)3: #33-0836672
URL:https://avidcyclist.com/event/tour-de-palm-springs/
LOCATION:Palm Springs\, California\, Palm Springs\, California
CATEGORIES:Non-Profit Fund Raising Event,Ride,Road
ATTACH;FMTTYPE=image/png:https://avidcyclist.com/wp-content/uploads/tour-de-palm-springs.png
END:VEVENT
END:VCALENDAR