BEGIN:VCALENDAR
VERSION:2.0
PRODID:-//Avid Cyclist - ECPv6.15.19//NONSGML v1.0//EN
CALSCALE:GREGORIAN
METHOD:PUBLISH
X-ORIGINAL-URL:https://avidcyclist.com
X-WR-CALDESC:Events for Avid Cyclist
REFRESH-INTERVAL;VALUE=DURATION:PT1H
X-Robots-Tag:noindex
X-PUBLISHED-TTL:PT1H
BEGIN:VTIMEZONE
TZID:America/Denver
BEGIN:DAYLIGHT
TZOFFSETFROM:-0700
TZOFFSETTO:-0600
TZNAME:MDT
DTSTART:20250309T090000
END:DAYLIGHT
BEGIN:STANDARD
TZOFFSETFROM:-0600
TZOFFSETTO:-0700
TZNAME:MST
DTSTART:20251102T080000
END:STANDARD
BEGIN:DAYLIGHT
TZOFFSETFROM:-0700
TZOFFSETTO:-0600
TZNAME:MDT
DTSTART:20260308T090000
END:DAYLIGHT
BEGIN:STANDARD
TZOFFSETFROM:-0600
TZOFFSETTO:-0700
TZNAME:MST
DTSTART:20261101T080000
END:STANDARD
BEGIN:DAYLIGHT
TZOFFSETFROM:-0700
TZOFFSETTO:-0600
TZNAME:MDT
DTSTART:20270314T090000
END:DAYLIGHT
BEGIN:STANDARD
TZOFFSETFROM:-0600
TZOFFSETTO:-0700
TZNAME:MST
DTSTART:20271107T080000
END:STANDARD
END:VTIMEZONE
BEGIN:VEVENT
DTSTART;VALUE=DATE:20260905
DTEND;VALUE=DATE:20260908
DTSTAMP:20260425T093723
CREATED:20250319T042716Z
LAST-MODIFIED:20260115T230904Z
UID:10000073-1788566400-1788825599@avidcyclist.com
SUMMARY:MADGRAVEL
DESCRIPTION:Come on back over Labor Day 2026 for a great 2-day Gravel Fest.\n\n\n\n\nMad Gravel will be back \, but in 2026\, for Labor Day Weekend\, Sept 5-7.  As usual\, we expect it to be one of the most popular events on the calendar. Based out of the McNeil Ranch at Peaceful Valley south of Kiowa\, Colorado\, riders will be tested\, and get to enjoy the amazing views and high peaks of the Colorado front range. That alone is worth the price of admission! Bring the family\, participate in a variety of events\, camp\, relax and enjoy.
URL:https://avidcyclist.com/event/madgravel/
LOCATION:Peaceful Valley\, 22799 Elbert Rd\, Elbert\, CO\, 80106\, United States
CATEGORIES:Gravel,Mountain,Race
ATTACH;FMTTYPE=image/jpeg:https://avidcyclist.com/wp-content/uploads/Mad-Gravel.jpg
GEO:39.190751;-104.5233949
X-APPLE-STRUCTURED-LOCATION;VALUE=URI;X-ADDRESS=Peaceful Valley 22799 Elbert Rd Elbert CO 80106 United States;X-APPLE-RADIUS=500;X-TITLE=22799 Elbert Rd:geo:-104.5233949,39.190751
END:VEVENT
END:VCALENDAR