BEGIN:VCALENDAR
VERSION:2.0
PRODID:-//Avid Cyclist - ECPv6.15.19//NONSGML v1.0//EN
CALSCALE:GREGORIAN
METHOD:PUBLISH
X-WR-CALNAME:Avid Cyclist
X-ORIGINAL-URL:https://avidcyclist.com
X-WR-CALDESC:Events for Avid Cyclist
REFRESH-INTERVAL;VALUE=DURATION:PT1H
X-Robots-Tag:noindex
X-PUBLISHED-TTL:PT1H
BEGIN:VTIMEZONE
TZID:America/Denver
BEGIN:DAYLIGHT
TZOFFSETFROM:-0700
TZOFFSETTO:-0600
TZNAME:MDT
DTSTART:20240310T090000
END:DAYLIGHT
BEGIN:STANDARD
TZOFFSETFROM:-0600
TZOFFSETTO:-0700
TZNAME:MST
DTSTART:20241103T080000
END:STANDARD
BEGIN:DAYLIGHT
TZOFFSETFROM:-0700
TZOFFSETTO:-0600
TZNAME:MDT
DTSTART:20250309T090000
END:DAYLIGHT
BEGIN:STANDARD
TZOFFSETFROM:-0600
TZOFFSETTO:-0700
TZNAME:MST
DTSTART:20251102T080000
END:STANDARD
BEGIN:DAYLIGHT
TZOFFSETFROM:-0700
TZOFFSETTO:-0600
TZNAME:MDT
DTSTART:20260308T090000
END:DAYLIGHT
BEGIN:STANDARD
TZOFFSETFROM:-0600
TZOFFSETTO:-0700
TZNAME:MST
DTSTART:20261101T080000
END:STANDARD
END:VTIMEZONE
BEGIN:VEVENT
DTSTART;VALUE=DATE:20251011
DTEND;VALUE=DATE:20251013
DTSTAMP:20260424T175548
CREATED:20250929T175306Z
LAST-MODIFIED:20250929T175306Z
UID:10000383-1760140800-1760313599@avidcyclist.com
SUMMARY:The Dirty Downhill
DESCRIPTION:Downhill racing is a relatively short (3-7 minutes) one-stage race where the trail trends downhill for the majority of the track. You may think of it as having a one-stage enduro race\, although you are typically shuttled/take a lift to the top of the race course instead of having to pedal yourself. Racers are sent off individually and while passing can occur\, it is less frequent than other kinds of racing due to the shorter race course. \nDownhill racing has a higher focus on the details – knowing the course well\, selecting the fastest/cleanest lines\, shifting at the right times\, using technical bike handling skills – compared to cross country and enduro style racing. \nRace weekend consists of practice day (Saturday) and race day (Sunday). \nBy the end of practice\, you should be comfortable riding the entire course at speed\, including any difficult features. On practice day(s)\, you will be shuttled to the top of the course and then ride down\, working to get as familiar with the course as possible. Walking sections\, sessioning challenging features\, and repeatedly riding the track are the focus on practice days. \nYou may not do many entire “top-to-bottom” runs before you race until you’ve worked your way down the track\, getting comfortable with any technical features. We recommend a slow top-to-bottom roll-through of the whole course on your first ride down\, followed by picking apart the course on your subsequent runs\, where you stop to scout lines\, ride a challenging section multiple times (being careful not to interfere with riders coming down as you push up the trail)\, or walk through a section to see details that are hard to pick out while on your bike. Once you feel like you’ve mastered all the technical bits\, it’s good to get in several top-to-bottom runs\, as that will feel different than stop-and-go run-throughs (i.e.\, more tiring!). You will repeatedly shuttle to the top of the course and ride down\, but you don’t want to wear yourself out the day before the race! So watch your energy levels\, hydration\, and food intake on practice days. \nRace day is Sunday. Usually\, you will only ride down the course once on your “race run\,” although sometimes there is the option for a practice run on the morning of race day. People are assigned race times and shuttled to the top in a group with their category. At the start line\, racers are sent off individually\, with time between each racer\, and ride their course to the bottom as quickly as possible. Results are immediate. \nAfter the racing concludes\, there will be a raffle and podiums. Food will be available at the venue for purchase.
URL:https://avidcyclist.com/event/the-dirty-downhill/
LOCATION:Port  Angeles\, Washington\, Port Angeles\, Washinton
CATEGORIES:Mountain Bike,Race
ATTACH;FMTTYPE=image/png:https://avidcyclist.com/wp-content/uploads/dirty-downhill.png
END:VEVENT
END:VCALENDAR