BEGIN:VCALENDAR
VERSION:2.0
PRODID:-//Avid Cyclist - ECPv6.15.19//NONSGML v1.0//EN
CALSCALE:GREGORIAN
METHOD:PUBLISH
X-ORIGINAL-URL:https://avidcyclist.com
X-WR-CALDESC:Events for Avid Cyclist
REFRESH-INTERVAL;VALUE=DURATION:PT1H
X-Robots-Tag:noindex
X-PUBLISHED-TTL:PT1H
BEGIN:VTIMEZONE
TZID:America/Denver
BEGIN:DAYLIGHT
TZOFFSETFROM:-0700
TZOFFSETTO:-0600
TZNAME:MDT
DTSTART:20250309T090000
END:DAYLIGHT
BEGIN:STANDARD
TZOFFSETFROM:-0600
TZOFFSETTO:-0700
TZNAME:MST
DTSTART:20251102T080000
END:STANDARD
BEGIN:DAYLIGHT
TZOFFSETFROM:-0700
TZOFFSETTO:-0600
TZNAME:MDT
DTSTART:20260308T090000
END:DAYLIGHT
BEGIN:STANDARD
TZOFFSETFROM:-0600
TZOFFSETTO:-0700
TZNAME:MST
DTSTART:20261101T080000
END:STANDARD
BEGIN:DAYLIGHT
TZOFFSETFROM:-0700
TZOFFSETTO:-0600
TZNAME:MDT
DTSTART:20270314T090000
END:DAYLIGHT
BEGIN:STANDARD
TZOFFSETFROM:-0600
TZOFFSETTO:-0700
TZNAME:MST
DTSTART:20271107T080000
END:STANDARD
END:VTIMEZONE
BEGIN:VEVENT
DTSTART;TZID=America/Denver:20260614T080000
DTEND;TZID=America/Denver:20260614T170000
DTSTAMP:20260424T115210
CREATED:20251201T230331Z
LAST-MODIFIED:20251201T230331Z
UID:10000461-1781424000-1781456400@avidcyclist.com
SUMMARY:Dragon Ride
DESCRIPTION:The Dragon Ride 2026 is an event that needs no introduction to cycling enthusiasts. The oldest and most iconic sportive in the UK\, the Dragon Ride  is renowned for being one of the toughest and most legendary rides in the British Isles. This ride is often referred to as one of the Best Gran Fondos in the UK. \nThe first Dragon Ride 2026 was birthed in 2004 by Lou Lusardi\, who was inspired by the popularity of Italian Gran Fondo’s in his home country. Back then\, there were only a handful of sportives in the UK\, but Lou saw an opportunity to bring this type of event to the Bannau Brycheiniog\, better known as the Brecon Beacons. It was an insight that has proven correct and stood the test of time\, with thousands of cyclists now slaying the grueling Dragon Ride each year.
URL:https://avidcyclist.com/event/dragon-ride/
LOCATION:Port Talbot\, Wales\, Port Talbot\, Wales\, United Kingdom
CATEGORIES:Fondo,Race,Ride
ATTACH;FMTTYPE=image/png:https://avidcyclist.com/wp-content/uploads/dragon-ride.png
END:VEVENT
END:VCALENDAR