BEGIN:VCALENDAR
VERSION:2.0
PRODID:-//Avid Cyclist - ECPv6.15.19//NONSGML v1.0//EN
CALSCALE:GREGORIAN
METHOD:PUBLISH
X-ORIGINAL-URL:https://avidcyclist.com
X-WR-CALDESC:Events for Avid Cyclist
REFRESH-INTERVAL;VALUE=DURATION:PT1H
X-Robots-Tag:noindex
X-PUBLISHED-TTL:PT1H
BEGIN:VTIMEZONE
TZID:America/Denver
BEGIN:DAYLIGHT
TZOFFSETFROM:-0700
TZOFFSETTO:-0600
TZNAME:MDT
DTSTART:20250309T090000
END:DAYLIGHT
BEGIN:STANDARD
TZOFFSETFROM:-0600
TZOFFSETTO:-0700
TZNAME:MST
DTSTART:20251102T080000
END:STANDARD
BEGIN:DAYLIGHT
TZOFFSETFROM:-0700
TZOFFSETTO:-0600
TZNAME:MDT
DTSTART:20260308T090000
END:DAYLIGHT
BEGIN:STANDARD
TZOFFSETFROM:-0600
TZOFFSETTO:-0700
TZNAME:MST
DTSTART:20261101T080000
END:STANDARD
BEGIN:DAYLIGHT
TZOFFSETFROM:-0700
TZOFFSETTO:-0600
TZNAME:MDT
DTSTART:20270314T090000
END:DAYLIGHT
BEGIN:STANDARD
TZOFFSETFROM:-0600
TZOFFSETTO:-0700
TZNAME:MST
DTSTART:20271107T080000
END:STANDARD
END:VTIMEZONE
BEGIN:VEVENT
DTSTART;VALUE=DATE:20260724
DTEND;VALUE=DATE:20260727
DTSTAMP:20260425T054930
CREATED:20251202T230025Z
LAST-MODIFIED:20251202T230058Z
UID:10000480-1784851200-1785110399@avidcyclist.com
SUMMARY:Dirty Kitten Gravel Festival
DESCRIPTION:**STAY TUNED FOR UPDATED DKGF 2026 INFO**\nThe Dirty Kitten Gravel Race is an adventure gravel race on private farm roads in Rapidan\, VA. \nNestled in the foothills of the Blue Ridge Mountains\, Locust Hill Farm & Preserve encompasses over 5\,000 continuous acres of privately-owned land with approximately 20 miles of scenic farm roads. The course explores this historic farm on gravel & dirt roads that run along the Robinson River\, pass serene creeks and ponds\, weave through open fields\, and cross wooded forest trails. This area is a gravel & adventure cycling enthusiast’s dream as well as a beautiful wildlife haven. \nThe DIRTY KITTEN is co-hosted by Dirty Kitten Productions and local equestrian group\, Bull Run Hunt. It serves as a partial fundraiser for our women’s “off-road” cycling team (Dirty Kitten Racing) and helps to raise money for local non-profit organizations in the surrounding area. \nYour entry fee includes an amazing adventure-gravel experience\, official start/finish \n& lap timing\, full event results\, partial ride support\, on-course aid stations (2)\, post-ride food and beverages\, commemorative event swag\, and payout or merchandise prizes for the top 3-5 finishers in each category/field provided by our generous event sponsors. \nThere are off-site camping options available for Friday & Saturday (at an additional cost). \n\nEVENT REGISTRATION
URL:https://avidcyclist.com/event/dirty-kitten-gravel-festival/
LOCATION:Rapidan\, Virginia\, Rapidan\, Rapidan
CATEGORIES:Gravel,Race,Race>Stage Race,Ride
ATTACH;FMTTYPE=image/jpeg:https://avidcyclist.com/wp-content/uploads/dirty-kitten.jpg
ORGANIZER;CN="Dirty Kitten Productions":MAILTO:info@dirtykittengravel.com
END:VEVENT
END:VCALENDAR