BEGIN:VCALENDAR
VERSION:2.0
PRODID:-//Avid Cyclist - ECPv6.15.19//NONSGML v1.0//EN
CALSCALE:GREGORIAN
METHOD:PUBLISH
X-ORIGINAL-URL:https://avidcyclist.com
X-WR-CALDESC:Events for Avid Cyclist
REFRESH-INTERVAL;VALUE=DURATION:PT1H
X-Robots-Tag:noindex
X-PUBLISHED-TTL:PT1H
BEGIN:VTIMEZONE
TZID:America/Denver
BEGIN:DAYLIGHT
TZOFFSETFROM:-0700
TZOFFSETTO:-0600
TZNAME:MDT
DTSTART:20240310T090000
END:DAYLIGHT
BEGIN:STANDARD
TZOFFSETFROM:-0600
TZOFFSETTO:-0700
TZNAME:MST
DTSTART:20241103T080000
END:STANDARD
BEGIN:DAYLIGHT
TZOFFSETFROM:-0700
TZOFFSETTO:-0600
TZNAME:MDT
DTSTART:20250309T090000
END:DAYLIGHT
BEGIN:STANDARD
TZOFFSETFROM:-0600
TZOFFSETTO:-0700
TZNAME:MST
DTSTART:20251102T080000
END:STANDARD
BEGIN:DAYLIGHT
TZOFFSETFROM:-0700
TZOFFSETTO:-0600
TZNAME:MDT
DTSTART:20260308T090000
END:DAYLIGHT
BEGIN:STANDARD
TZOFFSETFROM:-0600
TZOFFSETTO:-0700
TZNAME:MST
DTSTART:20261101T080000
END:STANDARD
END:VTIMEZONE
BEGIN:VEVENT
DTSTART;VALUE=DATE:20251130
DTEND;VALUE=DATE:20251201
DTSTAMP:20260425T055207
CREATED:20251008T211630Z
LAST-MODIFIED:20251008T211630Z
UID:10000406-1764460800-1764547199@avidcyclist.com
SUMMARY:Bandido Cross - Disco Inferno
DESCRIPTION:2025 Bandido Cross is on for another epic year\, with our fun sponsors including Tender Belly Bacon.  The theme is Disco Inferno\, so get you disco ball\, bell bottoms\, and leisure suits out.
URL:https://avidcyclist.com/event/bandido-cross-disco-inferno/
LOCATION:Salsbury Park\, 11920 N Motsenbocker Rd\, Parker\, Colorado\, 80134
CATEGORIES:Cyclocross
ATTACH;FMTTYPE=image/png:https://avidcyclist.com/wp-content/uploads/bandido-cross.png
GEO:39.5011391;-104.7729009
X-APPLE-STRUCTURED-LOCATION;VALUE=URI;X-ADDRESS=Salsbury Park 11920 N Motsenbocker Rd Parker Colorado 80134;X-APPLE-RADIUS=500;X-TITLE=11920 N Motsenbocker Rd:geo:-104.7729009,39.5011391
END:VEVENT
END:VCALENDAR