BEGIN:VCALENDAR
VERSION:2.0
PRODID:-//Avid Cyclist - ECPv6.15.19//NONSGML v1.0//EN
CALSCALE:GREGORIAN
METHOD:PUBLISH
X-WR-CALNAME:Avid Cyclist
X-ORIGINAL-URL:https://avidcyclist.com
X-WR-CALDESC:Events for Avid Cyclist
REFRESH-INTERVAL;VALUE=DURATION:PT1H
X-Robots-Tag:noindex
X-PUBLISHED-TTL:PT1H
BEGIN:VTIMEZONE
TZID:America/Denver
BEGIN:DAYLIGHT
TZOFFSETFROM:-0700
TZOFFSETTO:-0600
TZNAME:MDT
DTSTART:20250309T090000
END:DAYLIGHT
BEGIN:STANDARD
TZOFFSETFROM:-0600
TZOFFSETTO:-0700
TZNAME:MST
DTSTART:20251102T080000
END:STANDARD
BEGIN:DAYLIGHT
TZOFFSETFROM:-0700
TZOFFSETTO:-0600
TZNAME:MDT
DTSTART:20260308T090000
END:DAYLIGHT
BEGIN:STANDARD
TZOFFSETFROM:-0600
TZOFFSETTO:-0700
TZNAME:MST
DTSTART:20261101T080000
END:STANDARD
BEGIN:DAYLIGHT
TZOFFSETFROM:-0700
TZOFFSETTO:-0600
TZNAME:MDT
DTSTART:20270314T090000
END:DAYLIGHT
BEGIN:STANDARD
TZOFFSETFROM:-0600
TZOFFSETTO:-0700
TZNAME:MST
DTSTART:20271107T080000
END:STANDARD
END:VTIMEZONE
BEGIN:VEVENT
DTSTART;VALUE=DATE:20260502
DTEND;VALUE=DATE:20260504
DTSTAMP:20260424T130304
CREATED:20250404T192900Z
LAST-MODIFIED:20251113T172906Z
UID:10000153-1777680000-1777852799@avidcyclist.com
SUMMARY:Belgian Waffle Ride California
DESCRIPTION:15th Annual Belgian Waffle Ride California / May 2 – 3\, 2026\n\nWelkom to the second stop of the Belgian Waffle Ride Quad-Tripel Crown of Gravel Series — the 15th Annual BWR California\, known as the Hell of the North (County… \nThe 2026 Belgian Waffle Ride California returns to the coast for a spectacular weekend at the Del Mar Polo Fields at Surf Sports Park\, where rolling tarmac meets raw terrain in the Hell of the North (County). \nFollowing the season opener in Arizona\, BWR CA carries the heaviest weight of the four events that make up the Quad-Tripel Crown of Gravel\, before the series heads to Utah and Montana. \nThis year’s BWR CA will once again push limits\, fuel community\, and celebrate the beautiful suffering that defines the unroad spirit. \nThe BWR Festival 2026: The Unroad Cycling Bash in Southern California \nFrom May 2–3\, the Belgian Waffle Ride Festival will transform the Del Mar Polo Fields into a sprawling playground for endurance enthusiasts\, families\, and fans. With live music\, beer\, food\, and over 65 exhibitors\, this is the hub of cycling culture on the West Coast. \nIt’s not just a race—it’s a weekend-long celebration of the endurance lifestyle\, a gathering of adventurers\, dreamers\, and gravel-grinders who all share one thing: a happy disrespect for the usual. \nDay 1: Saturday\, May 2\, 2026 – The Gran Roadie-Oh & Unroad Expo \nSaturday sets the stage with The Gran Roadie-Oh\, a Gran Fondo-style road ride for cyclists of all levels. Riders can choose from multiple distances to suit their appetite for speed\, scenery\, and suffering: \n\n100-mile Century – A full-gas coastal classic for those chasing glory\n100 km Metric Century – A challenging route blending beauty and bite\n50 km Fun Ride – A spirited spin with plenty of camaraderie\n\nFeeling ambitious? Take on the Dubbel Header Challenge—ride the Roadie-Oh on Saturday and the BWR on Sunday to earn true Belgian bragging rights. \nMeanwhile\, the Unroad Expo will be in full swing at Surf Sports Park\, featuring brands\, artisans\, and partners offering the latest in bikes\, gear\, and lifestyle. Enjoy the food court\, local brews\, live music\, and a vibrant community atmosphere as you prepare for the main event. \nDay 2: Sunday\, May 3\, 2026 – The 15th Annual Belgian Waffle Ride \nSunday brings the main event—the fifteenth running of the Belgian Waffle Ride California. The original unroad race that started it all returns with a brand-new coastal course mixing smooth tarmac\, gnarly gravel\, sandy sectors\, and steep climbs. \nWhether you take on the Waffle\, Wafer\, or Wanna\, you’ll be part of one of the most storied and spirited cycling events in the world—where world-class pros and weekend warriors line up side by side to suffer gloriously under the Southern California sun. \nAt the finish\, cold beer\, hot waffles\, and cheering fans await—all part of the grand BWR tradition of celebration and shared endurance. \nNew Course: This year we will remove the pinch places that caught some riders off guard and make sure the flow of the course doesn’t get impeded! \nLast Year’s Course Highlights (this year will be different): \nWaffle – 106.5-Miles/172-Kilometers \n~7\,500 Feet of Climbing \n25 Unroad sectors with Flemish names \n40% Unroad \n7 feed zones \nWafer – 60-Miles/97-Kilometers \n~3\,750 Feet of Climbing \n16 Unroad sectors \n59% Unroad \nFive feed zones \nWanna – 32.7-Miles/53-Kilometers \n~2\,500 Feet of Climbing \n3 Unroad sectors \n32% Unroad \n2 feed zones \n 
URL:https://avidcyclist.com/event/belgian-waffle-ride-california-del-mar/
LOCATION:San Diego\, California\, San Diego\, California
CATEGORIES:Gravel,Race,Ride
ATTACH;FMTTYPE=image/jpeg:https://avidcyclist.com/wp-content/uploads/Belgian-Waffel-Ride.jpg
ORGANIZER;CN="Monuments of Cycling":MAILTO:info@monumentsofcycling.com
END:VEVENT
BEGIN:VEVENT
DTSTART;VALUE=DATE:20261010
DTEND;VALUE=DATE:20261011
DTSTAMP:20260424T130304
CREATED:20260314T165854Z
LAST-MODIFIED:20260314T165854Z
UID:10000637-1791590400-1791676799@avidcyclist.com
SUMMARY:Bikes & Beers San Diego\, CA
DESCRIPTION:Bikes & Beers San Diego\, CA\nALESMITH BREWING\nEvent Day: Saturday\, October 10th\, 2026\nRegister for California’s Annual Bikes & Beers San Diego – Bike Ride & Beer Festival 2026\, the premier cycling event series departing from ALESMITH BREWING in San Diego\, CA! Choose your challenge from a 15\, 30\, or 45-mile ride through the beautiful areas of trail and less-traveled roads of San Diego. Complete with morning fuel stations\, fully marked routes\, rest stops\, and SAG support for all riding levels. Finish back at ALESMITH for an unforgettable post-ride beer festival atmosphere\, where you’ll enjoy two complimentary craft beers in an official B&B pint glass\, live music\, food trucks\, games\, sponsor giveaways\, and a massive charity raffle with over $3\,000 in prizes\, all while benefiting local cycling charities. Have fun and give back! \nA CELEBRATION OF CYCLING\, CRAFT BEER & GIVING BACK!\n\nChoose Your Ride – $30 OFF
URL:https://avidcyclist.com/event/bikes-beers-san-diego-ca/
LOCATION:San Diego\, California\, San Diego\, California
CATEGORIES:Non-Profit Fund Raising Event,Ride,Road
ATTACH;FMTTYPE=image/png:https://avidcyclist.com/wp-content/uploads/2026/03/bikes-beers-san-diego-ca.png
ORGANIZER;CN="Bikes & Beers":MAILTO:info@bikesandbeers.com
END:VEVENT
END:VCALENDAR