BEGIN:VCALENDAR
VERSION:2.0
PRODID:-//Avid Cyclist - ECPv6.15.19//NONSGML v1.0//EN
CALSCALE:GREGORIAN
METHOD:PUBLISH
X-ORIGINAL-URL:https://avidcyclist.com
X-WR-CALDESC:Events for Avid Cyclist
REFRESH-INTERVAL;VALUE=DURATION:PT1H
X-Robots-Tag:noindex
X-PUBLISHED-TTL:PT1H
BEGIN:VTIMEZONE
TZID:America/Denver
BEGIN:DAYLIGHT
TZOFFSETFROM:-0700
TZOFFSETTO:-0600
TZNAME:MDT
DTSTART:20250309T090000
END:DAYLIGHT
BEGIN:STANDARD
TZOFFSETFROM:-0600
TZOFFSETTO:-0700
TZNAME:MST
DTSTART:20251102T080000
END:STANDARD
BEGIN:DAYLIGHT
TZOFFSETFROM:-0700
TZOFFSETTO:-0600
TZNAME:MDT
DTSTART:20260308T090000
END:DAYLIGHT
BEGIN:STANDARD
TZOFFSETFROM:-0600
TZOFFSETTO:-0700
TZNAME:MST
DTSTART:20261101T080000
END:STANDARD
BEGIN:DAYLIGHT
TZOFFSETFROM:-0700
TZOFFSETTO:-0600
TZNAME:MDT
DTSTART:20270314T090000
END:DAYLIGHT
BEGIN:STANDARD
TZOFFSETFROM:-0600
TZOFFSETTO:-0700
TZNAME:MST
DTSTART:20271107T080000
END:STANDARD
END:VTIMEZONE
BEGIN:VEVENT
DTSTART;VALUE=DATE:20260606
DTEND;VALUE=DATE:20260607
DTSTAMP:20260425T053543
CREATED:20251120T145650Z
LAST-MODIFIED:20251201T224019Z
UID:10000451-1780704000-1780790399@avidcyclist.com
SUMMARY:The Dead Swede
DESCRIPTION:The Premier Gravel Race/Ride/Tour of the West.\n\n\n\n\n\n\n\n \n\n\n\n\n\n\n\n\n\n\n\n\n20 Mile\n\n\n\n\n\n\n\n\nThe 20-mile course is for beginners\, families\, and those that want to get out on the gravel and experience the spectacle for themselves. \n\n\n\n\n\n\n\n\n\n\n\n \n\n\n\n\n\n\n\n\n\n\n\n\n40 Mile\n\n\n\n\n\n\n\n\nThe Swede’s 40-mile ride is a trek along the foothills of the Big Horns with rolling hills and a few challenging climbs. \n\n\n\n\n\n\n\n\n\n\n\n \n\n\n\n\n\n\n\n\n\n\n\n\n60 Mile\n\n\n\n\n\n\n\n\nLittle brother to the 100-miler\, the 60 is still a challenge! plenty gravel\, hills\, and the famous Bekton Hill Climb! \n\n\n\n\n\n\n\n\n\n\n\n \n\n\n\n\n\n\n\n\n\n\n\n\n100 Mile\n\n\n\n\n\n\n\n\nBig climbs\, fast descents\, and epic views\, this course has it all! \nREGISTRATION: \nIn-Person special – November 28th (Black Friday) 10am – 4pm at Sheridan Bicycle Company
URL:https://avidcyclist.com/event/the-dead-swede/
LOCATION:Sheridan\, Wyoming\, Sheridan\, Wyoming
CATEGORIES:Gravel,Race,Ride
ATTACH;FMTTYPE=image/jpeg:https://avidcyclist.com/wp-content/uploads/the-dead-swede.jpg
END:VEVENT
END:VCALENDAR