BEGIN:VCALENDAR
VERSION:2.0
PRODID:-//Avid Cyclist - ECPv6.15.19//NONSGML v1.0//EN
CALSCALE:GREGORIAN
METHOD:PUBLISH
X-ORIGINAL-URL:https://avidcyclist.com
X-WR-CALDESC:Events for Avid Cyclist
REFRESH-INTERVAL;VALUE=DURATION:PT1H
X-Robots-Tag:noindex
X-PUBLISHED-TTL:PT1H
BEGIN:VTIMEZONE
TZID:America/Denver
BEGIN:DAYLIGHT
TZOFFSETFROM:-0700
TZOFFSETTO:-0600
TZNAME:MDT
DTSTART:20250309T090000
END:DAYLIGHT
BEGIN:STANDARD
TZOFFSETFROM:-0600
TZOFFSETTO:-0700
TZNAME:MST
DTSTART:20251102T080000
END:STANDARD
BEGIN:DAYLIGHT
TZOFFSETFROM:-0700
TZOFFSETTO:-0600
TZNAME:MDT
DTSTART:20260308T090000
END:DAYLIGHT
BEGIN:STANDARD
TZOFFSETFROM:-0600
TZOFFSETTO:-0700
TZNAME:MST
DTSTART:20261101T080000
END:STANDARD
BEGIN:DAYLIGHT
TZOFFSETFROM:-0700
TZOFFSETTO:-0600
TZNAME:MDT
DTSTART:20270314T090000
END:DAYLIGHT
BEGIN:STANDARD
TZOFFSETFROM:-0600
TZOFFSETTO:-0700
TZNAME:MST
DTSTART:20271107T080000
END:STANDARD
END:VTIMEZONE
BEGIN:VEVENT
DTSTART;VALUE=DATE:20260718
DTEND;VALUE=DATE:20260719
DTSTAMP:20260425T041721
CREATED:20251202T204143Z
LAST-MODIFIED:20251202T204215Z
UID:10000475-1784332800-1784419199@avidcyclist.com
SUMMARY:Sturdy Dirty
DESCRIPTION:Sturdy Dirty Enduro\nJuly 19\, 2025 – Raging River State Forest\, Snoqualmie WA\n2025 RACE RESULTS ARE POSTED! CLICK HERE\nThe mission behind the Sturdy Dirty Enduro is to create a fun\, intimidation-free racing experience. It encourages women to engage more comfortably with enduro racing and contribute to local trail maintenance and community building. The event is inclusive\, welcoming trans women\, genderqueer women\, and non-binary individuals who identify significantly as women. While only women may race\, everyone is welcome to spectate and volunteer\, fostering a strong sense of community and support for women in the sport.
URL:https://avidcyclist.com/event/sturdy-dirty/
LOCATION:Snoqualmie Pass\, Washington\, Snoqualmie Pass\, Washington
CATEGORIES:Mountain,Mountain Bike,Race
ATTACH;FMTTYPE=image/jpeg:https://avidcyclist.com/wp-content/uploads/sturdy-dirty.jpg
END:VEVENT
END:VCALENDAR