BEGIN:VCALENDAR
VERSION:2.0
PRODID:-//Avid Cyclist - ECPv6.15.19//NONSGML v1.0//EN
CALSCALE:GREGORIAN
METHOD:PUBLISH
X-WR-CALNAME:Avid Cyclist
X-ORIGINAL-URL:https://avidcyclist.com
X-WR-CALDESC:Events for Avid Cyclist
REFRESH-INTERVAL;VALUE=DURATION:PT1H
X-Robots-Tag:noindex
X-PUBLISHED-TTL:PT1H
BEGIN:VTIMEZONE
TZID:America/Denver
BEGIN:DAYLIGHT
TZOFFSETFROM:-0700
TZOFFSETTO:-0600
TZNAME:MDT
DTSTART:20240310T090000
END:DAYLIGHT
BEGIN:STANDARD
TZOFFSETFROM:-0600
TZOFFSETTO:-0700
TZNAME:MST
DTSTART:20241103T080000
END:STANDARD
BEGIN:DAYLIGHT
TZOFFSETFROM:-0700
TZOFFSETTO:-0600
TZNAME:MDT
DTSTART:20250309T090000
END:DAYLIGHT
BEGIN:STANDARD
TZOFFSETFROM:-0600
TZOFFSETTO:-0700
TZNAME:MST
DTSTART:20251102T080000
END:STANDARD
BEGIN:DAYLIGHT
TZOFFSETFROM:-0700
TZOFFSETTO:-0600
TZNAME:MDT
DTSTART:20260308T090000
END:DAYLIGHT
BEGIN:STANDARD
TZOFFSETFROM:-0600
TZOFFSETTO:-0700
TZNAME:MST
DTSTART:20261101T080000
END:STANDARD
END:VTIMEZONE
BEGIN:VEVENT
DTSTART;TZID=America/Denver:20250825T080000
DTEND;TZID=America/Denver:20250825T170000
DTSTAMP:20260424T150318
CREATED:20250825T204811Z
LAST-MODIFIED:20250825T204811Z
UID:10000352-1756108800-1756141200@avidcyclist.com
SUMMARY:Dakota Five-O
DESCRIPTION:In early autumn\, the town of Spearfish\, South Dakota\, is overtaken by the Dakota Five-O 2025. This adrenaline-pumping mountain bike race promises 50 challenging miles of intense riding\, enticing not only with its distance but also with its technical complexity. This is not a race for the faint of heart or the casual biker – it requires true grit\, as the race encompasses about 90% singletrack\, a daunting 6500+ ft of climbing\, and treacherous technical sections. Riders enjoy the incredible single track\, big crowds with many riders\, and good event organization.
URL:https://avidcyclist.com/event/dakota-five-o/
LOCATION:Spearfish\, South Dakota\, Spearfish\, South Dakota
CATEGORIES:Mountain Bike,Race
ATTACH;FMTTYPE=image/jpeg:https://avidcyclist.com/wp-content/uploads/dakota-five-o.jpg
END:VEVENT
END:VCALENDAR