BEGIN:VCALENDAR
VERSION:2.0
PRODID:-//Avid Cyclist - ECPv6.15.19//NONSGML v1.0//EN
CALSCALE:GREGORIAN
METHOD:PUBLISH
X-ORIGINAL-URL:https://avidcyclist.com
X-WR-CALDESC:Events for Avid Cyclist
REFRESH-INTERVAL;VALUE=DURATION:PT1H
X-Robots-Tag:noindex
X-PUBLISHED-TTL:PT1H
BEGIN:VTIMEZONE
TZID:America/Denver
BEGIN:DAYLIGHT
TZOFFSETFROM:-0700
TZOFFSETTO:-0600
TZNAME:MDT
DTSTART:20240310T090000
END:DAYLIGHT
BEGIN:STANDARD
TZOFFSETFROM:-0600
TZOFFSETTO:-0700
TZNAME:MST
DTSTART:20241103T080000
END:STANDARD
BEGIN:DAYLIGHT
TZOFFSETFROM:-0700
TZOFFSETTO:-0600
TZNAME:MDT
DTSTART:20250309T090000
END:DAYLIGHT
BEGIN:STANDARD
TZOFFSETFROM:-0600
TZOFFSETTO:-0700
TZNAME:MST
DTSTART:20251102T080000
END:STANDARD
BEGIN:DAYLIGHT
TZOFFSETFROM:-0700
TZOFFSETTO:-0600
TZNAME:MDT
DTSTART:20260308T090000
END:DAYLIGHT
BEGIN:STANDARD
TZOFFSETFROM:-0600
TZOFFSETTO:-0700
TZNAME:MST
DTSTART:20261101T080000
END:STANDARD
END:VTIMEZONE
BEGIN:VEVENT
DTSTART;TZID=America/Denver:20251011T093000
DTEND;TZID=America/Denver:20251011T133000
DTSTAMP:20260424T175747
CREATED:20250922T213708Z
LAST-MODIFIED:20250922T213708Z
UID:10000374-1760175000-1760189400@avidcyclist.com
SUMMARY:Fall Gravelanche
DESCRIPTION:Three levels of Gravel ride leaving from the shop at 10am. Check the calendar on our web site for more details!
URL:https://avidcyclist.com/event/fall-gravelanche/
LOCATION:Sports Garage Cycling\, 2707 Spruce Street\, Boulder\, CO\, 80302\, United States
CATEGORIES:Gravel
ATTACH;FMTTYPE=image/jpeg:https://avidcyclist.com/wp-content/uploads/fall-gravalanch.jpg
GEO:40.0235805;-105.2594197
X-APPLE-STRUCTURED-LOCATION;VALUE=URI;X-ADDRESS=Sports Garage Cycling 2707 Spruce Street Boulder CO 80302 United States;X-APPLE-RADIUS=500;X-TITLE=2707 Spruce Street:geo:-105.2594197,40.0235805
END:VEVENT
BEGIN:VEVENT
DTSTART;TZID=America/Denver:20250412T090000
DTEND;TZID=America/Denver:20250412T170000
DTSTAMP:20260424T175747
CREATED:20250320T002959Z
LAST-MODIFIED:20250320T002959Z
UID:10000133-1744448400-1744477200@avidcyclist.com
SUMMARY:Gravelanche
DESCRIPTION:Spring Gravelanche began in 2017 as a rain\, shine (or flurries) gravel group ride to conquer the shoulder season. Now it’s the day that kicks off the season in our hearts. Awwww…… ❤\nFor more details and digital waiver link:\nhttps://sportsgaragecycling.com/gravelanche2025 \nWHAT: Mark your calendars for Saturday\, April 12 to kick off your season on two wheels. With at least three individual riding groups – from “blow your hair back” to “we chatted the whole way” – we’ll be riding all over the county during one of Boulder’s largest free gravel events.\nCOST: This is a free event that welcomes riders of all abilities.\nWHO: If you own a bike you’re comfortable riding on mixed terrain\, this event is for you\, whether it is your very first group gravel ride\, or something you do on a weekly basis. Please check the details below for the average pace of each group. Rides are free\, open to the public\, and organized by Sports Garage Cycling. \nBIKES: @ParleeCycles will be with us! The new Parlee Taos is in our in-house demo fleet. All gravel demos can be reserved for Gravelanche. Call the shop at 303.473.0033.\nDETAILS: As always\, we’ll kick things off by opening the shop’s doors with coffee and donuts at 9:00am.\nCOFFEE: We’re super excited to have Alex Maloof vending mochas and other caffeinated deliciousness from Cafe Alejandro – look for his purple coffee truck starting at 9:00 am! Proper coffee social hour before we ride at 10. Follow Alex @cafealenjandrocoffeetruck on Instagram.\nThree group rides roll out at 10:00am:\n| “A” Ride: Spirited and challenging – longer and faster\, but not a bike race. At least two regroup points. ~ 3+ hours.\nROUTES WILL BE POSTED 4/5/25\n| “B” Ride: Tempo and solid – shorter than the “A” ride\, but not for slouching. At least two regroup points. ~ 2.5+ hours. Often splits into two pace groups.\nROUTES WILL BE POSTED 4/5/25\n| “C” Ride: Casual and consistent – less climbing than the A or B routes. Beginner friendly ride at 13-14 mph. A no-drop ride. ~ 1.5+ hours\nROUTES WILL BE POSTED 4/5/25\nCall the shop at 303-473-0033 for more details. See you at the huts!\n– The SG Team
URL:https://avidcyclist.com/event/gravelanche/
LOCATION:Sports Garage Cycling\, 2707 Spruce Street\, Boulder\, CO\, 80302\, United States
CATEGORIES:Gravel,Ride
ATTACH;FMTTYPE=image/jpeg:https://avidcyclist.com/wp-content/uploads/Gravelanche.jpg
GEO:40.0235805;-105.2594197
X-APPLE-STRUCTURED-LOCATION;VALUE=URI;X-ADDRESS=Sports Garage Cycling 2707 Spruce Street Boulder CO 80302 United States;X-APPLE-RADIUS=500;X-TITLE=2707 Spruce Street:geo:-105.2594197,40.0235805
END:VEVENT
END:VCALENDAR