BEGIN:VCALENDAR
VERSION:2.0
PRODID:-//Avid Cyclist - ECPv6.15.19//NONSGML v1.0//EN
CALSCALE:GREGORIAN
METHOD:PUBLISH
X-WR-CALNAME:Avid Cyclist
X-ORIGINAL-URL:https://avidcyclist.com
X-WR-CALDESC:Events for Avid Cyclist
REFRESH-INTERVAL;VALUE=DURATION:PT1H
X-Robots-Tag:noindex
X-PUBLISHED-TTL:PT1H
BEGIN:VTIMEZONE
TZID:America/Chicago
BEGIN:DAYLIGHT
TZOFFSETFROM:-0600
TZOFFSETTO:-0500
TZNAME:CDT
DTSTART:20250309T080000
END:DAYLIGHT
BEGIN:STANDARD
TZOFFSETFROM:-0500
TZOFFSETTO:-0600
TZNAME:CST
DTSTART:20251102T070000
END:STANDARD
BEGIN:DAYLIGHT
TZOFFSETFROM:-0600
TZOFFSETTO:-0500
TZNAME:CDT
DTSTART:20260308T080000
END:DAYLIGHT
BEGIN:STANDARD
TZOFFSETFROM:-0500
TZOFFSETTO:-0600
TZNAME:CST
DTSTART:20261101T070000
END:STANDARD
BEGIN:DAYLIGHT
TZOFFSETFROM:-0600
TZOFFSETTO:-0500
TZNAME:CDT
DTSTART:20270314T080000
END:DAYLIGHT
BEGIN:STANDARD
TZOFFSETFROM:-0500
TZOFFSETTO:-0600
TZNAME:CST
DTSTART:20271107T070000
END:STANDARD
END:VTIMEZONE
BEGIN:VEVENT
DTSTART;TZID=America/Chicago:20260718T060000
DTEND;TZID=America/Chicago:20260718T183000
DTSTAMP:20260425T055314
CREATED:20260115T040324Z
LAST-MODIFIED:20260128T182454Z
UID:10000519-1784354400-1784399400@avidcyclist.com
SUMMARY:RAGBRAI Transportation: Chicago to the Start of RAGBRAI powered by Bicycle Illinois
DESCRIPTION:Getting to RAGBRAI has never been easier – or more fun! Our transportation service takes care of everything by transporting you\, your bike\, and your baggage from downtown Chicago to the start of RAGBRAI\, and from the end of RAGBRAI back to downtown Chicago. Need flexibility? We also offer one-way transportation\, as well as options for just you and your baggage if you plan to ship your bike separately. Plus\, we’ve partnered with Pork Belly Ventures to provide additional charter services throughout the week. \nSkip the stress and kick off your adventure vacation the best way possible! Settle into our comfortable vehicles\, relax\, and enjoy the ride knowing all the logistics are handled. You’ll arrive rested\, organized\, and ready to ride\, while meeting fellow cyclists from Chicago and beyond who are just as excited about RAGBRAI as you are. With us\, the fun starts the moment we roll out of Chicago. \nOur downtown Chicago pickup and drop-off locations are central\, convenient\, and incredibly easy to access by plane\, train\, or bus. Whether you’re coming from the city\, the suburbs\, or across the globe\, getting here is simple. In fact\, many riders can enjoy a completely car-free RAGBRAI experience – no driving\, no parking\, no hassle at all. \nSit back. Relax. We’ve got you!
URL:https://avidcyclist.com/event/ragbrai-transportation-chicago-to-the-start-of-ragbrai-powered-by-bicycle-illinois/
LOCATION:Crowne Plaza Chicago West Loop\, 25 S. Halsted St.\, Chicago\, IL\, 60661\, United States
CATEGORIES:Fondo,Ride,Road
ATTACH;FMTTYPE=image/jpeg:https://avidcyclist.com/wp-content/uploads/2026/01/picture395.jpg
ORGANIZER;CN="Bicycle Illinois":MAILTO:bicycleillinois@bicycleillinois.com
GEO:41.8808102;-87.6467805
X-APPLE-STRUCTURED-LOCATION;VALUE=URI;X-ADDRESS=Crowne Plaza Chicago West Loop 25 S. Halsted St. Chicago IL 60661 United States;X-APPLE-RADIUS=500;X-TITLE=25 S. Halsted St.:geo:-87.6467805,41.8808102
END:VEVENT
END:VCALENDAR