BEGIN:VCALENDAR
VERSION:2.0
PRODID:-//Avid Cyclist - ECPv6.15.19//NONSGML v1.0//EN
CALSCALE:GREGORIAN
METHOD:PUBLISH
X-ORIGINAL-URL:https://avidcyclist.com
X-WR-CALDESC:Events for Avid Cyclist
REFRESH-INTERVAL;VALUE=DURATION:PT1H
X-Robots-Tag:noindex
X-PUBLISHED-TTL:PT1H
BEGIN:VTIMEZONE
TZID:America/Denver
BEGIN:DAYLIGHT
TZOFFSETFROM:-0700
TZOFFSETTO:-0600
TZNAME:MDT
DTSTART:20260308T090000
END:DAYLIGHT
BEGIN:STANDARD
TZOFFSETFROM:-0600
TZOFFSETTO:-0700
TZNAME:MST
DTSTART:20261101T080000
END:STANDARD
BEGIN:DAYLIGHT
TZOFFSETFROM:-0700
TZOFFSETTO:-0600
TZNAME:MDT
DTSTART:20270314T090000
END:DAYLIGHT
BEGIN:STANDARD
TZOFFSETFROM:-0600
TZOFFSETTO:-0700
TZNAME:MST
DTSTART:20271107T080000
END:STANDARD
BEGIN:DAYLIGHT
TZOFFSETFROM:-0700
TZOFFSETTO:-0600
TZNAME:MDT
DTSTART:20280312T090000
END:DAYLIGHT
BEGIN:STANDARD
TZOFFSETFROM:-0600
TZOFFSETTO:-0700
TZNAME:MST
DTSTART:20281105T080000
END:STANDARD
END:VTIMEZONE
BEGIN:VEVENT
DTSTART;VALUE=DATE:20270626
DTEND;VALUE=DATE:20270627
DTSTAMP:20260425T072357
CREATED:20250609T191956Z
LAST-MODIFIED:20251120T162207Z
UID:10000310-1813968000-1814054399@avidcyclist.com
SUMMARY:Vermont Grand Fondo
DESCRIPTION:(TAKING A BREAK IN 2026\nSEE  YOU IN 2027)\nAbout the Vermont Gran Fondo\nThe Vermont Gran Fondo (VTGF) was born from a famous bucket-list epic 4-gap ride known by the locals as the LAMB ride. LAMB comes from the names of 4 gaps (Lincoln Gap\, Appalachian Gap\, Middlebury Gap\, and Brandon Gap) which\, when combined into a single ride\, can easily top 100 miles and over 10\,000 feet \nGreen Mtn Gap Challenge\nThis year’s event will feature something new in the KOM & QOM challenge. This year we’ll again offer the Gap Challenge focusing on the pinnacle climb\, of the final course. Each year a single Gap pushes the envelope for steep climbs. This year we will award the top three results for men and women swag bags of local goodies. More details to come.
URL:https://avidcyclist.com/event/vermont-grand-fondo/
LOCATION:Stowe\, Vermont\, Stowe\, Vermont
CATEGORIES:Fondo,Race,Ride,Road
ATTACH;FMTTYPE=image/png:https://avidcyclist.com/wp-content/uploads/oregon-trail-gravel-grinder.png
END:VEVENT
END:VCALENDAR