BEGIN:VCALENDAR
VERSION:2.0
PRODID:-//Avid Cyclist - ECPv6.15.19//NONSGML v1.0//EN
CALSCALE:GREGORIAN
METHOD:PUBLISH
X-WR-CALNAME:Avid Cyclist
X-ORIGINAL-URL:https://avidcyclist.com
X-WR-CALDESC:Events for Avid Cyclist
REFRESH-INTERVAL;VALUE=DURATION:PT1H
X-Robots-Tag:noindex
X-PUBLISHED-TTL:PT1H
BEGIN:VTIMEZONE
TZID:America/Denver
BEGIN:DAYLIGHT
TZOFFSETFROM:-0700
TZOFFSETTO:-0600
TZNAME:MDT
DTSTART:20240310T090000
END:DAYLIGHT
BEGIN:STANDARD
TZOFFSETFROM:-0600
TZOFFSETTO:-0700
TZNAME:MST
DTSTART:20241103T080000
END:STANDARD
BEGIN:DAYLIGHT
TZOFFSETFROM:-0700
TZOFFSETTO:-0600
TZNAME:MDT
DTSTART:20250309T090000
END:DAYLIGHT
BEGIN:STANDARD
TZOFFSETFROM:-0600
TZOFFSETTO:-0700
TZNAME:MST
DTSTART:20251102T080000
END:STANDARD
BEGIN:DAYLIGHT
TZOFFSETFROM:-0700
TZOFFSETTO:-0600
TZNAME:MDT
DTSTART:20260308T090000
END:DAYLIGHT
BEGIN:STANDARD
TZOFFSETFROM:-0600
TZOFFSETTO:-0700
TZNAME:MST
DTSTART:20261101T080000
END:STANDARD
END:VTIMEZONE
BEGIN:VEVENT
DTSTART;VALUE=DATE:20250829
DTEND;VALUE=DATE:20250830
DTSTAMP:20260425T042824
CREATED:20250529T140335Z
LAST-MODIFIED:20250529T140335Z
UID:10000284-1756425600-1756511999@avidcyclist.com
SUMMARY:Freehub Presents a Mountain Bike Film Festival - Tahoe City\, CA
DESCRIPTION:Join us in celebrating community\, culture\, and cinema\nFreehub PRESENTS\, brought to you by Arkansas Tourism\, is a collection of films from some of the best filmmakers and riders\, as well as new up-and-comers alike\, all given the proper big screen experience. The multi-stop film festival honors top and emerging filmmakers\, riders\, leaders\, and storytellers who will shape the sport for generations to come. Cinematic events and coast-to-coast independent events celebrate community\, culture\, and cinema while benefiting nonprofit trail advocacy organizations. \nJoin us on Thursday\, July 10th\, 2025 in Bellingham\, WA\, for the premiere screening event of the 2025 Freehub PRESENTS mountain bike film festival. Stay tuned for additional screening tour dates to find an event near you. \nGoTo: www.freehub.com for venue\, exact times\, and ticket information .
URL:https://avidcyclist.com/event/freehub-presents-a-mountain-bike-film-festival-tahoe-city-ca/
LOCATION:Tahoe City\, California\, Tahoe City\, California
CATEGORIES:Film Festival
ATTACH;FMTTYPE=image/png:https://avidcyclist.com/wp-content/uploads/freehub-mountain-bike-film-festival-tahoe-city-california.png
END:VEVENT
END:VCALENDAR