BEGIN:VCALENDAR
VERSION:2.0
PRODID:-//Avid Cyclist - ECPv6.15.19//NONSGML v1.0//EN
CALSCALE:GREGORIAN
METHOD:PUBLISH
X-ORIGINAL-URL:https://avidcyclist.com
X-WR-CALDESC:Events for Avid Cyclist
REFRESH-INTERVAL;VALUE=DURATION:PT1H
X-Robots-Tag:noindex
X-PUBLISHED-TTL:PT1H
BEGIN:VTIMEZONE
TZID:America/Denver
BEGIN:DAYLIGHT
TZOFFSETFROM:-0700
TZOFFSETTO:-0600
TZNAME:MDT
DTSTART:20240310T090000
END:DAYLIGHT
BEGIN:STANDARD
TZOFFSETFROM:-0600
TZOFFSETTO:-0700
TZNAME:MST
DTSTART:20241103T080000
END:STANDARD
BEGIN:DAYLIGHT
TZOFFSETFROM:-0700
TZOFFSETTO:-0600
TZNAME:MDT
DTSTART:20250309T090000
END:DAYLIGHT
BEGIN:STANDARD
TZOFFSETFROM:-0600
TZOFFSETTO:-0700
TZNAME:MST
DTSTART:20251102T080000
END:STANDARD
BEGIN:DAYLIGHT
TZOFFSETFROM:-0700
TZOFFSETTO:-0600
TZNAME:MDT
DTSTART:20260308T090000
END:DAYLIGHT
BEGIN:STANDARD
TZOFFSETFROM:-0600
TZOFFSETTO:-0700
TZNAME:MST
DTSTART:20261101T080000
END:STANDARD
END:VTIMEZONE
BEGIN:VEVENT
DTSTART;VALUE=DATE:20250419
DTEND;VALUE=DATE:20250420
DTSTAMP:20260422T162603
CREATED:20250319T043309Z
LAST-MODIFIED:20250319T150444Z
UID:10000094-1745020800-1745107199@avidcyclist.com
SUMMARY:2024 Pony Xpress Gravel 160
DESCRIPTION:Come discover the challenges Pony Express riders faced in the 1860s. These earliest American racers sped across remote\, desolate regions of America. They had to combine speed\, endurance\, and mental toughness just to stay alive. While at their physical limits\, they had to keep a clear mind\, navigate the land\, read the weather\, and manage their food supply. If they got into trouble\, they had only their own wits and fortitude to help them. Join us at the Pony Xpress Gravel 160 to challenge your ability to think and plan under pressure. Success will require the ability to combine speed\, endurance\, clear-thinking\, and dogged determination. \nShowcasing the beauty of the Sangre de Cristo Mountains\, riders wind their way along country gravel roads northwest of Trinidad\, Colorado. Embark on a journey featuring rolling foothills\, captivating forests\, and open plains with stunning views of Fisher Peak. Travel through historic mining areas including the nationally recognized Ludlow Memorial. \nWith only 20 kilometers of blacktop road and few cars\, all race distances boast entirely new terrain and quiet riding. Most of the course is in calm sheltered areas\, making high winds unlikely. Elevations range from 6\,000 feet to 8\,800 feet with typical temps from 50 degrees to 75 degrees. Limited entries are available\, act quickly!
URL:https://avidcyclist.com/event/2024-pony-xpress-gravel-160/
LOCATION:Trinidad\, Colorado\, Trinidad\, CO\, United States
CATEGORIES:Gravel
ATTACH;FMTTYPE=image/png:https://avidcyclist.com/wp-content/uploads/Blank-600-x-400-20.png
END:VEVENT
END:VCALENDAR