BEGIN:VCALENDAR
VERSION:2.0
PRODID:-//Avid Cyclist - ECPv6.15.19//NONSGML v1.0//EN
CALSCALE:GREGORIAN
METHOD:PUBLISH
X-WR-CALNAME:Avid Cyclist
X-ORIGINAL-URL:https://avidcyclist.com
X-WR-CALDESC:Events for Avid Cyclist
REFRESH-INTERVAL;VALUE=DURATION:PT1H
X-Robots-Tag:noindex
X-PUBLISHED-TTL:PT1H
BEGIN:VTIMEZONE
TZID:America/Denver
BEGIN:DAYLIGHT
TZOFFSETFROM:-0700
TZOFFSETTO:-0600
TZNAME:MDT
DTSTART:20240310T090000
END:DAYLIGHT
BEGIN:STANDARD
TZOFFSETFROM:-0600
TZOFFSETTO:-0700
TZNAME:MST
DTSTART:20241103T080000
END:STANDARD
BEGIN:DAYLIGHT
TZOFFSETFROM:-0700
TZOFFSETTO:-0600
TZNAME:MDT
DTSTART:20250309T090000
END:DAYLIGHT
BEGIN:STANDARD
TZOFFSETFROM:-0600
TZOFFSETTO:-0700
TZNAME:MST
DTSTART:20251102T080000
END:STANDARD
BEGIN:DAYLIGHT
TZOFFSETFROM:-0700
TZOFFSETTO:-0600
TZNAME:MDT
DTSTART:20260308T090000
END:DAYLIGHT
BEGIN:STANDARD
TZOFFSETFROM:-0600
TZOFFSETTO:-0700
TZNAME:MST
DTSTART:20261101T080000
END:STANDARD
END:VTIMEZONE
BEGIN:VEVENT
DTSTART;TZID=America/Denver:20251112T183000
DTEND;TZID=America/Denver:20251112T210000
DTSTAMP:20260425T071929
CREATED:20250923T195805Z
LAST-MODIFIED:20250923T195805Z
UID:10000375-1762972200-1762981200@avidcyclist.com
SUMMARY:Tucson Velodrome Ribbon Cutting Event
DESCRIPTION:Official Grand Opening and Ribbon Cutting \nMore Information Coming
URL:https://avidcyclist.com/event/tucson-velodrome-ribbon-cutting-event/
LOCATION:Tucson Velodrome\, 11800 S Harrison Road\, Tucson\, Arizona\, 85747
CATEGORIES:Festival,Track
ATTACH;FMTTYPE=image/png:https://avidcyclist.com/wp-content/uploads/tucson-velodrome-ribbon-cutting-.png
GEO:32.0355377;-110.7949428
X-APPLE-STRUCTURED-LOCATION;VALUE=URI;X-ADDRESS=Tucson Velodrome 11800 S Harrison Road Tucson Arizona 85747;X-APPLE-RADIUS=500;X-TITLE=11800 S Harrison Road:geo:-110.7949428,32.0355377
END:VEVENT
END:VCALENDAR