BEGIN:VCALENDAR
VERSION:2.0
PRODID:-//Avid Cyclist - ECPv6.15.19//NONSGML v1.0//EN
CALSCALE:GREGORIAN
METHOD:PUBLISH
X-WR-CALNAME:Avid Cyclist
X-ORIGINAL-URL:https://avidcyclist.com
X-WR-CALDESC:Events for Avid Cyclist
REFRESH-INTERVAL;VALUE=DURATION:PT1H
X-Robots-Tag:noindex
X-PUBLISHED-TTL:PT1H
BEGIN:VTIMEZONE
TZID:America/Denver
BEGIN:DAYLIGHT
TZOFFSETFROM:-0700
TZOFFSETTO:-0600
TZNAME:MDT
DTSTART:20240310T090000
END:DAYLIGHT
BEGIN:STANDARD
TZOFFSETFROM:-0600
TZOFFSETTO:-0700
TZNAME:MST
DTSTART:20241103T080000
END:STANDARD
BEGIN:DAYLIGHT
TZOFFSETFROM:-0700
TZOFFSETTO:-0600
TZNAME:MDT
DTSTART:20250309T090000
END:DAYLIGHT
BEGIN:STANDARD
TZOFFSETFROM:-0600
TZOFFSETTO:-0700
TZNAME:MST
DTSTART:20251102T080000
END:STANDARD
BEGIN:DAYLIGHT
TZOFFSETFROM:-0700
TZOFFSETTO:-0600
TZNAME:MDT
DTSTART:20260308T090000
END:DAYLIGHT
BEGIN:STANDARD
TZOFFSETFROM:-0600
TZOFFSETTO:-0700
TZNAME:MST
DTSTART:20261101T080000
END:STANDARD
END:VTIMEZONE
BEGIN:VEVENT
DTSTART;VALUE=DATE:20250606
DTEND;VALUE=DATE:20250609
DTSTAMP:20260425T053949
CREATED:20250513T205602Z
LAST-MODIFIED:20250513T205602Z
UID:10000276-1749168000-1749427199@avidcyclist.com
SUMMARY:Saint Francis Tulsa Tough
DESCRIPTION:Saint Francis Tulsa Tough is a three-day party on wheels. Whether you’re racing to win\, riding for fun\, or cheering from the sidelines\, we guarantee a good time. \nThree days of crits and two days of rides\nWhether you’re a professional cyclist\, new to crits and rides\, or simply a casual cyclist seeking a fun experience\, Saint Francis Tulsa Tough is the event for you. This prominent bike race in Tulsa\, Oklahoma\, offers three days of crits\, each taking place on a different course and at a unique venue. The payouts are generous\, and the atmosphere created by the enthusiastic crowds is unparalleled. For those who prefer a festive and enjoyable cycling experience\, don’t miss out on the Fondo rides held on Saturday and Sunday. On Sunday\, riders can choose from three different distances\, while Saturday offers two distances\, allowing you to select the route that aligns with your desired pace and challenge level. \nFun for the family\nIn addition to three days of festivals and professional races\, there is something for everyone at Saint Francis Tulsa Tough. If you have little ones\, check out the kids’ races for those nine and under. And no matter your age\, plan on peddling across town in our free Townie ride presented by Williams. \nCorporate challenge Sportif\nAre you looking for ways to get your work crew away from the screens and engage in the real world together? The Saint Francis Tulsa Tough Corporate Challenge Sportif adds friendly competition to our fondo rides. Go pedal-to-pedal against other companies to see who is the toughest of them all. \nLooking for helpers\nSaint Francis Tulsa Tough could not happen without an army of volunteers\, donors and sponsors. If you are interested in being a part of making the magic happen\, we’d love to talk. \nElevating Tulsa\nTulsa Tough\, Inc.\, exists solely to promote healthy lifestyles and elevate Tulsa. We love our city\, and we think you will too. Check out our recommendations for eating\, drinking\, playing\, and staying like a local in your new favorite destination.
URL:https://avidcyclist.com/event/saint-francis-tulsa-tough/
LOCATION:Tulsa\, Oklahoma\, Tulsa\, OK
CATEGORIES:Criterium,Race>Stage Race,Ride,Road
ATTACH;FMTTYPE=image/png:https://avidcyclist.com/wp-content/uploads/Tulsa-Tough.png
END:VEVENT
END:VCALENDAR