BEGIN:VCALENDAR
VERSION:2.0
PRODID:-//Avid Cyclist - ECPv6.15.19//NONSGML v1.0//EN
CALSCALE:GREGORIAN
METHOD:PUBLISH
X-ORIGINAL-URL:https://avidcyclist.com
X-WR-CALDESC:Events for Avid Cyclist
REFRESH-INTERVAL;VALUE=DURATION:PT1H
X-Robots-Tag:noindex
X-PUBLISHED-TTL:PT1H
BEGIN:VTIMEZONE
TZID:America/Denver
BEGIN:DAYLIGHT
TZOFFSETFROM:-0700
TZOFFSETTO:-0600
TZNAME:MDT
DTSTART:20250309T090000
END:DAYLIGHT
BEGIN:STANDARD
TZOFFSETFROM:-0600
TZOFFSETTO:-0700
TZNAME:MST
DTSTART:20251102T080000
END:STANDARD
BEGIN:DAYLIGHT
TZOFFSETFROM:-0700
TZOFFSETTO:-0600
TZNAME:MDT
DTSTART:20260308T090000
END:DAYLIGHT
BEGIN:STANDARD
TZOFFSETFROM:-0600
TZOFFSETTO:-0700
TZNAME:MST
DTSTART:20261101T080000
END:STANDARD
BEGIN:DAYLIGHT
TZOFFSETFROM:-0700
TZOFFSETTO:-0600
TZNAME:MDT
DTSTART:20270314T090000
END:DAYLIGHT
BEGIN:STANDARD
TZOFFSETFROM:-0600
TZOFFSETTO:-0700
TZNAME:MST
DTSTART:20271107T080000
END:STANDARD
END:VTIMEZONE
BEGIN:VEVENT
DTSTART;VALUE=DATE:20260613
DTEND;VALUE=DATE:20260614
DTSTAMP:20260424T091322
CREATED:20250319T043338Z
LAST-MODIFIED:20260103T035949Z
UID:10000102-1781308800-1781395199@avidcyclist.com
SUMMARY:Dirty Dino Gravel Race - Utah
DESCRIPTION:Come get Jurass-kicked on 1 of the 3 amazing routes through the High Uinta Mountains. You’ll experience a Rawr-some rush\, as the gravel is T-riffic and the scenery is no eyeSAUR\, but make sure you train for this one… you don’t want a Mega-Saur-Ass. \nMake a weekend of it! Vernal\, Utah – AKA Dinosaurland – has everything to make your adventure accommodating and fun. There are plenty of hotels\, camping spots and dining options in town. Dinosaurland has amazing bike trails\, fishing\, white water rafting\, hiking to petroglyphs\, museums\, and of course all the dinos!\n‍
URL:https://avidcyclist.com/event/dirty-dino-gravel-race-utah/
LOCATION:Vernal\, Utah\, Vernal\, UT\, United States
CATEGORIES:Gravel,Race
ATTACH;FMTTYPE=image/png:https://avidcyclist.com/wp-content/uploads/Dirty-Dino-Gravel-Race.png
END:VEVENT
END:VCALENDAR