BEGIN:VCALENDAR
VERSION:2.0
PRODID:-//Avid Cyclist - ECPv6.15.19//NONSGML v1.0//EN
CALSCALE:GREGORIAN
METHOD:PUBLISH
X-ORIGINAL-URL:https://avidcyclist.com
X-WR-CALDESC:Events for Avid Cyclist
REFRESH-INTERVAL;VALUE=DURATION:PT1H
X-Robots-Tag:noindex
X-PUBLISHED-TTL:PT1H
BEGIN:VTIMEZONE
TZID:America/Denver
BEGIN:DAYLIGHT
TZOFFSETFROM:-0700
TZOFFSETTO:-0600
TZNAME:MDT
DTSTART:20240310T090000
END:DAYLIGHT
BEGIN:STANDARD
TZOFFSETFROM:-0600
TZOFFSETTO:-0700
TZNAME:MST
DTSTART:20241103T080000
END:STANDARD
BEGIN:DAYLIGHT
TZOFFSETFROM:-0700
TZOFFSETTO:-0600
TZNAME:MDT
DTSTART:20250309T090000
END:DAYLIGHT
BEGIN:STANDARD
TZOFFSETFROM:-0600
TZOFFSETTO:-0700
TZNAME:MST
DTSTART:20251102T080000
END:STANDARD
BEGIN:DAYLIGHT
TZOFFSETFROM:-0700
TZOFFSETTO:-0600
TZNAME:MDT
DTSTART:20260308T090000
END:DAYLIGHT
BEGIN:STANDARD
TZOFFSETFROM:-0600
TZOFFSETTO:-0700
TZNAME:MST
DTSTART:20261101T080000
END:STANDARD
END:VTIMEZONE
BEGIN:VEVENT
DTSTART;VALUE=DATE:20250914
DTEND;VALUE=DATE:20250915
DTSTAMP:20260425T071027
CREATED:20250811T204816Z
LAST-MODIFIED:20250811T205216Z
UID:10000341-1757808000-1757894399@avidcyclist.com
SUMMARY:Walla Walla Grit
DESCRIPTION:WHAT IS THE GRIT?\nIs it a race\, or a ride?\nIt could go either way. You are given a number and timed\, so it\nmight be a race. With three stunning routes and plenty of well-\nstocked aid stations\, it could be a ride. \nIs it a challenge to find the perfect bike\, or a challenge to\nbe the most under-biked? \nBe ready to push your bike to the limit. The grit course will make\nyou question the line between gravel riding and mountain biking\,\nand find the balance between comfort and speed. \nWith years of experience running the Tour of Walla Walla stage\nrace\, Michael and Kathryn Austin have taken to the gravel race\nscene like ducks to water. With a route co-designed by Matt\nFaunt\, you’re (almost) guaranteed to have a good time.
URL:https://avidcyclist.com/event/walla-walla-grit/
LOCATION:Walla Walla\, 425 B Street\, Walla Walla\, Washington\, 99302
CATEGORIES:Gravel,Race
ATTACH;FMTTYPE=image/png:https://avidcyclist.com/wp-content/uploads/walla-walla-grit.png
GEO:46.2307395;-119.0903548
X-APPLE-STRUCTURED-LOCATION;VALUE=URI;X-ADDRESS=Walla Walla 425 B Street Walla Walla Washington 99302;X-APPLE-RADIUS=500;X-TITLE=425 B Street:geo:-119.0903548,46.2307395
END:VEVENT
END:VCALENDAR