BEGIN:VCALENDAR
VERSION:2.0
PRODID:-//Avid Cyclist - ECPv6.15.19//NONSGML v1.0//EN
CALSCALE:GREGORIAN
METHOD:PUBLISH
X-WR-CALNAME:Avid Cyclist
X-ORIGINAL-URL:https://avidcyclist.com
X-WR-CALDESC:Events for Avid Cyclist
REFRESH-INTERVAL;VALUE=DURATION:PT1H
X-Robots-Tag:noindex
X-PUBLISHED-TTL:PT1H
BEGIN:VTIMEZONE
TZID:America/Denver
BEGIN:DAYLIGHT
TZOFFSETFROM:-0700
TZOFFSETTO:-0600
TZNAME:MDT
DTSTART:20240310T090000
END:DAYLIGHT
BEGIN:STANDARD
TZOFFSETFROM:-0600
TZOFFSETTO:-0700
TZNAME:MST
DTSTART:20241103T080000
END:STANDARD
BEGIN:DAYLIGHT
TZOFFSETFROM:-0700
TZOFFSETTO:-0600
TZNAME:MDT
DTSTART:20250309T090000
END:DAYLIGHT
BEGIN:STANDARD
TZOFFSETFROM:-0600
TZOFFSETTO:-0700
TZNAME:MST
DTSTART:20251102T080000
END:STANDARD
BEGIN:DAYLIGHT
TZOFFSETFROM:-0700
TZOFFSETTO:-0600
TZNAME:MDT
DTSTART:20260308T090000
END:DAYLIGHT
BEGIN:STANDARD
TZOFFSETFROM:-0600
TZOFFSETTO:-0700
TZNAME:MST
DTSTART:20261101T080000
END:STANDARD
END:VTIMEZONE
BEGIN:VEVENT
DTSTART;VALUE=DATE:20250816
DTEND;VALUE=DATE:20250817
DTSTAMP:20260425T082044
CREATED:20250319T043354Z
LAST-MODIFIED:20250319T150423Z
UID:10000108-1755302400-1755388799@avidcyclist.com
SUMMARY:WINTER PARK CLASSICS MTB RACE – TIPPERARY CLASSIC
DESCRIPTION:TIPPERARY CLASSIC\nSaturday\, August 17\, 2024 \n\n\nThe Tipperary Classic (formerly King of the Rockies) has been the iconic mountain bike race in Winter Park for over 25 years. The course begins in Fraser\, following miles of amazing\, scenic singletrack trails\, and finishes at the Winter Park Resort base area. Riders who ride in this race gain bragging rights for stepping up to this challenging race.
URL:https://avidcyclist.com/event/winter-park-classics-mtb-race-tipperary-classic/
LOCATION:Winter Park\, Colorado\, Winter Park\, CO\, United States
CATEGORIES:Mountain Bike,Race
ATTACH;FMTTYPE=image/png:https://avidcyclist.com/wp-content/uploads/Winter-Park-MTB-Classice.png
END:VEVENT
END:VCALENDAR