BEGIN:VCALENDAR
VERSION:2.0
PRODID:-//Avid Cyclist - ECPv6.15.19//NONSGML v1.0//EN
CALSCALE:GREGORIAN
METHOD:PUBLISH
X-WR-CALNAME:Avid Cyclist
X-ORIGINAL-URL:https://avidcyclist.com
X-WR-CALDESC:Events for Avid Cyclist
REFRESH-INTERVAL;VALUE=DURATION:PT1H
X-Robots-Tag:noindex
X-PUBLISHED-TTL:PT1H
BEGIN:VTIMEZONE
TZID:America/Denver
BEGIN:DAYLIGHT
TZOFFSETFROM:-0700
TZOFFSETTO:-0600
TZNAME:MDT
DTSTART:20240310T090000
END:DAYLIGHT
BEGIN:STANDARD
TZOFFSETFROM:-0600
TZOFFSETTO:-0700
TZNAME:MST
DTSTART:20241103T080000
END:STANDARD
BEGIN:DAYLIGHT
TZOFFSETFROM:-0700
TZOFFSETTO:-0600
TZNAME:MDT
DTSTART:20250309T090000
END:DAYLIGHT
BEGIN:STANDARD
TZOFFSETFROM:-0600
TZOFFSETTO:-0700
TZNAME:MST
DTSTART:20251102T080000
END:STANDARD
BEGIN:DAYLIGHT
TZOFFSETFROM:-0700
TZOFFSETTO:-0600
TZNAME:MDT
DTSTART:20260308T090000
END:DAYLIGHT
BEGIN:STANDARD
TZOFFSETFROM:-0600
TZOFFSETTO:-0700
TZNAME:MST
DTSTART:20261101T080000
END:STANDARD
END:VTIMEZONE
BEGIN:VEVENT
DTSTART;TZID=America/Denver:20250719T080000
DTEND;TZID=America/Denver:20250719T180000
DTSTAMP:20260425T045527
CREATED:20250319T043353Z
LAST-MODIFIED:20250319T150424Z
UID:10000107-1752912000-1752948000@avidcyclist.com
SUMMARY:Rendezvous CX MTB Race
DESCRIPTION:We are bringing back Race Rendezvous for 2025! We will begin near Mary’s Pond\, ride through the unsurpassed Idlewild trails and end again in Rendezvous. Courses and Start Times will be published closer to the event.
URL:https://avidcyclist.com/event/rendezvous-cx-mtb-race/
LOCATION:Winter Park Resort\, Parsenn Road\, Winter Park\, CO\, United States
CATEGORIES:Mountain Bike,Race
ATTACH;FMTTYPE=image/jpeg:https://avidcyclist.com/wp-content/uploads/Winter-park-mountain-bike-race.jpg
GEO:39.8865964;-105.7621241
X-APPLE-STRUCTURED-LOCATION;VALUE=URI;X-ADDRESS=Winter Park Resort Parsenn Road Winter Park CO United States;X-APPLE-RADIUS=500;X-TITLE=Parsenn Road:geo:-105.7621241,39.8865964
END:VEVENT
BEGIN:VEVENT
DTSTART;TZID=America/Denver:20250614T080000
DTEND;TZID=America/Denver:20250614T180000
DTSTAMP:20260425T045527
CREATED:20250319T043352Z
LAST-MODIFIED:20250319T150424Z
UID:10000106-1749888000-1749924000@avidcyclist.com
SUMMARY:Double Up Hill Climb MTB Race
DESCRIPTION:From junior athletes up to professional racers\, we have a category that suits everyone – even if it’s your first race! We pride ourselves on offering a welcoming\, fun race event for anyone who wants to get out and climb. Participate in an uphill bike race\, uphill run\, or double up and race in both events!
URL:https://avidcyclist.com/event/double-up-hill-climb-mtb-race/
LOCATION:Winter Park Resort\, Parsenn Road\, Winter Park\, CO\, United States
CATEGORIES:Mountain Bike,Race
ATTACH;FMTTYPE=image/jpeg:https://avidcyclist.com/wp-content/uploads/Winter-park-mountain-bike-race.jpg
GEO:39.8865964;-105.7621241
X-APPLE-STRUCTURED-LOCATION;VALUE=URI;X-ADDRESS=Winter Park Resort Parsenn Road Winter Park CO United States;X-APPLE-RADIUS=500;X-TITLE=Parsenn Road:geo:-105.7621241,39.8865964
END:VEVENT
END:VCALENDAR