BEGIN:VCALENDAR
VERSION:2.0
PRODID:-//Avid Cyclist - ECPv6.15.19//NONSGML v1.0//EN
CALSCALE:GREGORIAN
METHOD:PUBLISH
X-ORIGINAL-URL:https://avidcyclist.com
X-WR-CALDESC:Events for Avid Cyclist
REFRESH-INTERVAL;VALUE=DURATION:PT1H
X-Robots-Tag:noindex
X-PUBLISHED-TTL:PT1H
BEGIN:VTIMEZONE
TZID:America/Chicago
BEGIN:DAYLIGHT
TZOFFSETFROM:-0600
TZOFFSETTO:-0500
TZNAME:CDT
DTSTART:20250309T080000
END:DAYLIGHT
BEGIN:STANDARD
TZOFFSETFROM:-0500
TZOFFSETTO:-0600
TZNAME:CST
DTSTART:20251102T070000
END:STANDARD
BEGIN:DAYLIGHT
TZOFFSETFROM:-0600
TZOFFSETTO:-0500
TZNAME:CDT
DTSTART:20260308T080000
END:DAYLIGHT
BEGIN:STANDARD
TZOFFSETFROM:-0500
TZOFFSETTO:-0600
TZNAME:CST
DTSTART:20261101T070000
END:STANDARD
BEGIN:DAYLIGHT
TZOFFSETFROM:-0600
TZOFFSETTO:-0500
TZNAME:CDT
DTSTART:20270314T080000
END:DAYLIGHT
BEGIN:STANDARD
TZOFFSETFROM:-0500
TZOFFSETTO:-0600
TZNAME:CST
DTSTART:20271107T070000
END:STANDARD
END:VTIMEZONE
BEGIN:VEVENT
DTSTART;TZID=America/Chicago:20260621T053000
DTEND;TZID=America/Chicago:20260621T203000
DTSTAMP:20260424T142849
CREATED:20260115T040303Z
LAST-MODIFIED:20260115T040303Z
UID:10000517-1782019800-1782073800@avidcyclist.com
SUMMARY:Ride Across Illinois (RAIL) North powered by Bicycle Illinois
DESCRIPTION:Cycle across the entire state of Illinois in one day!  \nBicycle Illinois is proud to announce our Ride Across Illinois (RAIL) event series! Similar to ultra-distance one day cycling events\, these fully supported rides will challenge you to push the limits of your endurance while riding from one border of Illinois to the other! \nRAIL North will travel approximately 180 miles in one day from Moline to Chicago. \nBoth events are extremely physically demanding events\, and intended to challenge experienced cyclists in peak physical condition. These events are not suited for novice or inexperienced riders.
URL:https://avidcyclist.com/event/ride-across-illinois-rail-north-powered-by-bicycle-illinois/
LOCATION:Wyndham Moline on John Deere Commons\, 1415 River Dr.\, Moline\, IL\, 61265\, United States
CATEGORIES:Fondo,Ride,Road
ATTACH;FMTTYPE=image/jpeg:https://avidcyclist.com/wp-content/uploads/2026/01/picture09560-scaled.jpg
ORGANIZER;CN="Bicycle Illinois":MAILTO:bicycleillinois@bicycleillinois.com
GEO:41.5083763;-90.5187879
X-APPLE-STRUCTURED-LOCATION;VALUE=URI;X-ADDRESS=Wyndham Moline on John Deere Commons 1415 River Dr. Moline IL 61265 United States;X-APPLE-RADIUS=500;X-TITLE=1415 River Dr.:geo:-90.5187879,41.5083763
END:VEVENT
END:VCALENDAR